BEGIN:VCALENDAR
VERSION:2.0
PRODID:-//ChamberMaster//Event Calendar 2.0//EN
METHOD:PUBLISH
X-PUBLISHED-TTL:P3D
REFRESH-INTERVAL:P3D
CALSCALE:GREGORIAN
BEGIN:VEVENT
DTSTART;VALUE=DATE:20250313
DTEND;VALUE=DATE:20250314
TRANSP:TRANSPARENT
X-MICROSOFT-CDO-ALLDAYEVENT:TRUE
SUMMARY:Sleep Hygiene: Info Session and Sleep Challenge
DESCRIPTION:Join an info session (Zoom) on March 13th!\n\n\n\nCome for the knowledge (why sleep is SO important\, how to get it)\, stay for the challenge!\n\n\n\nZoom meets to occur during the challenge for added practices and answered questions.\n\n\n\nContact Autumn to pay and receive Zoom link.
X-ALT-DESC;FMTTYPE=text/html:<br />\n<span style="font-size:22px\;">Join an info session (Zoom) on March 13th!<br />\n<br />\nCome for the knowledge (why sleep is SO important\, how to get it)\, stay for the challenge!<br />\n<br />\nZoom meets to occur during the challenge for added practices and answered questions.<br />\n<br />\nContact Autumn to pay and receive Zoom link.</span>
LOCATION:
UID:e.3083.11679
SEQUENCE:3
DTSTAMP:20260421T160148Z
URL:https://members.longmontchamber.org/events/details/sleep-hygiene-info-session-and-sleep-challenge-11679
END:VEVENT

END:VCALENDAR
