BEGIN:VCALENDAR
VERSION:2.0
PRODID:-//ChamberMaster//Event Calendar 2.0//EN
METHOD:PUBLISH
X-PUBLISHED-TTL:P3D
REFRESH-INTERVAL:P3D
CALSCALE:GREGORIAN
BEGIN:VEVENT
DTSTART:20240322T220000Z
DTEND:20240323T000000Z
X-MICROSOFT-CDO-ALLDAYEVENT:FALSE
SUMMARY:Small Business Happy Hour
DESCRIPTION:Welcome to Small Business Happy Hour! Join us at Bricks on Main for a fun evening of networking and relaxation. This is your chance to mingle with fellow small business owners\, share ideas\, and unwind after a long workday. This event is perfect for making new connections or enjoying a drink with friends. Don't miss this fantastic chance to connect with the local business community. See you there!\n\n\n\nYou can see the Meetup Event page here: \n\n\n\nhttps://www.meetup.com/small-business-happy-hour/events/299893733/
X-ALT-DESC;FMTTYPE=text/html:<span style="color:rgb(111\, 114\, 135)\; font-family:-apple-system\,system-ui\,roboto\,helvetica neue\,helvetica\,tahoma\,arial\,sans-serif\; font-size:16px">Welcome to&nbsp\;</span><strong>Small Business Happy Hour</strong><span style="color:rgb(111\, 114\, 135)\; font-family:-apple-system\,system-ui\,roboto\,helvetica neue\,helvetica\,tahoma\,arial\,sans-serif\; font-size:16px">! Join us at&nbsp\;</span><strong>Bricks on Main</strong><span style="color:rgb(111\, 114\, 135)\; font-family:-apple-system\,system-ui\,roboto\,helvetica neue\,helvetica\,tahoma\,arial\,sans-serif\; font-size:16px">&nbsp\;for a fun evening of networking and relaxation. This is your chance to mingle with fellow small business owners\, share ideas\, and unwind after a long workday. This event is perfect for making new connections or enjoying a drink with friends. Don&#39\;t miss this fantastic chance to connect with the local business community. See you there!<br />\n<br />\nYou can see the Meetup Event page here:&nbsp\;</span><br />\n<br />\nhttps://www.meetup.com/small-business-happy-hour/events/299893733/
LOCATION:Bricks on Main 471 Main Street Longmont\, CO 80501
UID:e.3083.10070
SEQUENCE:3
DTSTAMP:20260422T121250Z
URL:https://members.longmontchamber.org/events/details/small-business-happy-hour-10070
END:VEVENT

END:VCALENDAR
