BEGIN:VCALENDAR
VERSION:2.0
PRODID:-//ChamberMaster//Event Calendar 2.0//EN
METHOD:PUBLISH
X-PUBLISHED-TTL:P3D
REFRESH-INTERVAL:P3D
CALSCALE:GREGORIAN
BEGIN:VEVENT
DTSTART:20230513T060000Z
DTEND:20230513T230000Z
X-MICROSOFT-CDO-ALLDAYEVENT:FALSE
SUMMARY:Small Planet eBike's Spring Party
DESCRIPTION:Ticket to Ride Spring Party. Small Planet eBikes is hosting a community event at their store at 724 Main Street in Longmont. Come enjoy food and snacks\, participate in a scavenger hunt to win prizes\, join our parade at 3pm\, test ride an eBike\, and enter the RAFFLE TO WIN A FREE EBIKE!
X-ALT-DESC;FMTTYPE=text/html:Ticket to Ride Spring Party. <span style="color:#008000">Small Planet eBikes</span> is hosting a community event at their store at 724 Main Street in Longmont. Come enjoy food and snacks\, participate in a scavenger hunt to win prizes\, join our parade at 3pm\, test ride an eBike\, and enter the <strong>RAFFLE TO WIN A FREE EBIKE!</strong>
LOCATION:724 Main Street\, Longmont\, CO 80501
UID:e.3083.9674
SEQUENCE:3
DTSTAMP:20260423T033518Z
URL:https://members.longmontchamber.org/events/details/small-planet-ebike-s-spring-party-9674
END:VEVENT

END:VCALENDAR
