BEGIN:VCALENDAR
VERSION:2.0
PRODID:-//ChamberMaster//Event Calendar 2.0//EN
METHOD:PUBLISH
X-PUBLISHED-TTL:P3D
REFRESH-INTERVAL:P3D
CALSCALE:GREGORIAN
BEGIN:VEVENT
DTSTART:20251025T000000Z
DTEND:20251025T020000Z
X-MICROSOFT-CDO-ALLDAYEVENT:FALSE
SUMMARY:Smash the Past Rage Room
DESCRIPTION:Join The Grief Collective at Axe Me Out on Friday\, October 24 at 6 - 8 PM to 'Smash the Past!' \n\n\n\nWe are a safe\, supportive group that is committed to acknowledging loss & helping our community move through grief in a healthy and sometimes fun way.\n\n\n\nBring your own breakables or use what's provided\, write down what you're ready to let go of\, and smash it as a physical act of release. Sometimes healing starts by breaking what no longer serves you. \n\n\n\nVisit the link for more info and to let us know you're coming!
X-ALT-DESC;FMTTYPE=text/html:<br />\n<span style="font-size:18px">Join The Grief Collective at Axe Me Out on Friday\, October 24 at 6 - 8 PM to <strong>&#39\;Smash the Past!&#39\;</strong><span dir="auto"><strong>&nbsp\;</strong><br />\n<br />\nWe are a safe\, supportive group that is committed to acknowledging loss &amp\; helping our community move through grief in a healthy and sometimes fun way.<br />\n<br />\nBring your own breakables or use what&rsquo\;s provided\, write down what you&rsquo\;re ready to let go of\, and smash it as a physical act of release. Sometimes healing starts by breaking what no longer serves you.</span>&nbsp\;<br />\n<br />\nVisit the link for more info and to let us know you&#39\;re coming!</span>
LOCATION:Axe Me Out
UID:e.3083.14617
SEQUENCE:3
DTSTAMP:20260421T052023Z
URL:https://members.longmontchamber.org/events/details/smash-the-past-rage-room-14617
END:VEVENT

END:VCALENDAR
