BEGIN:VCALENDAR
VERSION:2.0
PRODID:-//ChamberMaster//Event Calendar 2.0//EN
METHOD:PUBLISH
X-PUBLISHED-TTL:P3D
REFRESH-INTERVAL:P3D
CALSCALE:GREGORIAN
BEGIN:VEVENT
DTSTART:20211216T220000Z
DTEND:20211217T010000Z
X-MICROSOFT-CDO-ALLDAYEVENT:FALSE
SUMMARY:Snow Apparel 5th Annual Gentlemen's Shopping Event!
DESCRIPTION:Thursday\, December 16\, 2021 (Snow Apparel 3:00pm - 6:00pm)\n\n\nJoin us on Thursday December 16th 3:00 pm - 6:00 pm for our 5th Annual Gentlemen's Shopping Event. This year we are excited to share with you\, our favorite craft whiskeys from Longmont's popular DRY LAND DISTILLERS!  DRY LAND Distillers produce unique spirits inspired by Colorado's landscapes. Pick up a SNOW Apparel gift card for the ladies on your holiday gift list and taste these award winning whiskeys representing the authentic flavors of the American West. Together we can shop small and sip slow at SNOW! \n\n \n\n\n"5th Annual GIFT CARD & WHISKEY " Gentlemen's Shopping Event. \n\nTHURSDAY DECEMBER 16th \n\n3:00 pm - 6:00 pm (Over 21 Only)
X-ALT-DESC;FMTTYPE=text/html:<div><strong>Thursday\, December 16\, 2021 (Snow Apparel 3:00pm - 6:00pm)</strong></div>\n\n<div>\n<div>Join us on Thursday December 16th 3:00 pm - 6:00 pm for our 5th Annual Gentlemen&#39\;s&nbsp\;Shopping Event. This year we are excited to share with you\, our favorite craft whiskeys from Longmont&#39\;s popular<span style="color:inherit">&nbsp\;</span><strong>DRY LAND DISTILLERS!&nbsp\;<span style="color:inherit">&nbsp\;</span></strong>DRY LAND Distillers produce unique spirits inspired by Colorado&#39\;s landscapes. Pick up a SNOW Apparel gift card for the ladies on your holiday gift list and taste these award winning whiskeys representing the authentic flavors of the American West.<span style="color:inherit">&nbsp\;</span><strong><em>Together we can shop small and sip slow at SNOW!</em></strong>&nbsp\;</div>\n\n<div>&nbsp\;</div>\n\n<div>\n<div><strong>&quot\;</strong><em><strong><u>5th Annual</u>&nbsp\;</strong><u>GIFT CARD &amp\; WHISKEY</u></em>&nbsp\;&quot\; Gentlemen&#39\;s Shopping Event.&nbsp\;</div>\n\n<div><strong>THURSDAY DECEMBER 16th&nbsp\;</strong></div>\n\n<div><strong>3:00 pm - 6:00 pm (Over 21 Only)</strong></div>\n\n<div>&nbsp\;</div>\n</div>\n</div>\n
LOCATION:Snow Apparel - 520 Main Street\, Suite B1\; Longmont\, CO 80501
UID:e.3083.8642
SEQUENCE:3
DTSTAMP:20260424T063015Z
URL:https://members.longmontchamber.org/events/details/snow-apparel-5th-annual-gentlemen-s-shopping-event-12-03-2021-8642
END:VEVENT

END:VCALENDAR
