BEGIN:VCALENDAR
VERSION:2.0
PRODID:-//ChamberMaster//Event Calendar 2.0//EN
METHOD:PUBLISH
X-PUBLISHED-TTL:P3D
REFRESH-INTERVAL:P3D
CALSCALE:GREGORIAN
BEGIN:VEVENT
DTSTART:20251211T230000Z
DTEND:20251212T010000Z
X-MICROSOFT-CDO-ALLDAYEVENT:FALSE
SUMMARY:Snow Apparel - Gentlemen's Night - Mark Your Calendar!
DESCRIPTION:Gentlemen's Night at Snow Apparel. \n\nMark your calendar for our 9th annual Gentlemen's Night at Snow Apparel on Thursday\, December 11th from 4:00 pm to 6:00 pm. Come for the festive fun\, great shopping\, and whiskey tasting!
X-ALT-DESC;FMTTYPE=text/html:<br />\n<span style="font-size:20px\;"><span style="color: rgb(33\, 33\, 33)\; font-family: calibri\, helvetica\, sans-serif\;"><strong>Gentlemen&rsquo\;s Night at&nbsp\;Snow&nbsp\;Apparel.</strong>&nbsp\;<br />\nMark your calendar for our 9th annual </span><span style="font-family: calibri\, helvetica\, sans-serif\;"><strong>Gentlemen&rsquo\;s Night at&nbsp\;Snow&nbsp\;Apparel </strong></span><span style="color: rgb(33\, 33\, 33)\; font-family: calibri\, helvetica\, sans-serif\;">on </span><span style="font-family: calibri\, helvetica\, sans-serif\;"><strong>Thursday\, December 11th</strong></span><span style="color: rgb(33\, 33\, 33)\; font-family: calibri\, helvetica\, sans-serif\;">&nbsp\;from </span><span style="font-family: calibri\, helvetica\, sans-serif\;"><strong>4:00 pm to 6:00 pm</strong></span><span style="color: rgb(33\, 33\, 33)\; font-family: calibri\, helvetica\, sans-serif\;">. Come for the festive fun\, great shopping\, and whiskey tasting!</span></span>
LOCATION:Snow Apparel
UID:e.3083.14638
SEQUENCE:3
DTSTAMP:20260421T015759Z
URL:https://members.longmontchamber.org/events/details/snow-apparel-gentlemen-s-night-mark-your-calendar-14638
END:VEVENT

END:VCALENDAR
