BEGIN:VCALENDAR
VERSION:2.0
PRODID:-//ChamberMaster//Event Calendar 2.0//EN
METHOD:PUBLISH
X-PUBLISHED-TTL:P3D
REFRESH-INTERVAL:P3D
CALSCALE:GREGORIAN
BEGIN:VEVENT
DTSTART:20241219T230000Z
DTEND:20241220T010000Z
X-MICROSOFT-CDO-ALLDAYEVENT:FALSE
SUMMARY:SNOW & Whiskey Tasting Event
DESCRIPTION:Mark your calendar for our 8th Annual Snow & Whiskey Holiday Shopping Event on Thursday\, December 19th (4:00pm - 6:00pm / Over 21 Only). Come join us for the festive fun\, great shopping\, and whiskey tasting!  We've partnered again this year with our neighbors DRY LAND Distillers for this event. 520 Main Street\, Suite B1\, Longmont\, Colorado 80501
X-ALT-DESC;FMTTYPE=text/html:<div>Mark your calendar for our <strong><u>8</u><em><u>th&nbsp\;Annual</u>&nbsp\;<u>Snow &amp\; Whiskey Holiday Shopping Event</u></em>&nbsp\;</strong>on&nbsp\;<strong>Thursday\, December 19th</strong>&nbsp\;(<strong>4:00pm - 6:00pm / Over 21 Only)</strong>. Come join us for the festive fun\, great shopping\, and whiskey tasting!&nbsp\; We&#39\;ve partnered again this year with our neighbors DRY LAND Distillers for this event.&nbsp\;<strong>520 Main Street\, Suite B1\, Longmont\, Colorado 80501</strong></div>\n
LOCATION:Snow Apparel - 520 Main Street\, Suite B1\, Longmont\, Colorado 80501
UID:e.3083.10266
SEQUENCE:3
DTSTAMP:20260421T203922Z
URL:https://members.longmontchamber.org/events/details/snow-whiskey-tasting-event-10266
END:VEVENT

END:VCALENDAR
