BEGIN:VCALENDAR
VERSION:2.0
PRODID:-//ChamberMaster//Event Calendar 2.0//EN
METHOD:PUBLISH
X-PUBLISHED-TTL:P3D
REFRESH-INTERVAL:P3D
CALSCALE:GREGORIAN
BEGIN:VEVENT
DTSTART:20210525T143000Z
DTEND:20210525T153000Z
X-MICROSOFT-CDO-ALLDAYEVENT:FALSE
SUMMARY:Social Media for the Anti-Social
DESCRIPTION:Having a love/hate relationship with social media for your business? \n\n\n\nNow more than ever\, managing your business social media can be overwhelming.\n\n\n\nDo you find yourself saying \n\n\n\n	I know I should be posting  but time flies by and I don't know what to write \n	I'm sick of it  . it's negative and full of fake stuff\n	I'm burned out - the last year has taken its toll - are people even paying attention?\n\n\n\nHelp is at hand - join Catherine McHale of Power & Purpose Marketing to get to the heart of where you should be with social right now for your small business - without the dread and overwhelm. \n\n\n\nYou will learn:\n\n\n\n	How to align your social with where you want your business to go\n	How people are responding to social media right now\n	Which elements to focus on and what you can drop like a stone ASAP\n	How to build a system that can put you in control of your social media \n	The best ways to schedule\, and what the heck to write about anyway\n\n\n\nNo wailing\, no fussing\, no "infobabble" - just an actionable guide for what to do right now without having your life taken over. \n\n\n\n \n\n\n\nAbout the Presenter\n\n\n\nAt Power & Purpose Marketing\, Catherine McHale helps small businesses take the leap to the next stage of their growth through fresh\, creative strategic marketing. Through her support businesses can gain clarity on their current situation\, and then work on innovative marketing solutions that develop communities and create sales growth.\n\n\n\nBorn and brought up in the UK\, her significant background in blue chip technology marketing (including senior roles at Apple) spans on and offline communications\, channel marketing\, strategic branding\, product management\, multi-level communications\, small business programs and PR.\n\n\n\nSince relocating to Colorado in 2011 Catherine has enjoyed making strategic impact with small and medium businesses using best practice techniques that combine big brand knowledge with small business local sensibilities.
X-ALT-DESC;FMTTYPE=text/html:<div color:="" helvetica="" segoe="" ui="" vertical-align:="" web="" west="">\n<p margin:="" new="" times="">Having a love/hate relationship with social media for your business?&nbsp\;</p>\n</div>\n\n<div color:="" helvetica="" segoe="" ui="" vertical-align:="" web="" west="">\n<p margin:="" new="" times="">Now more than ever\, managing your business social media can be overwhelming.</p>\n</div>\n\n<div color:="" helvetica="" segoe="" ui="" vertical-align:="" web="" west="">\n<p margin:="" new="" times="">Do you find yourself saying&hellip\;</p>\n</div>\n\n<ul font-size:="" helvetica="" margin-bottom:="" margin-top:="" segoe="" type="disc" ui="" web="" west="">\n	<li font-stretch:="" margin:="" new="" times="">I know I should be posting&hellip\; but time flies by and I don&rsquo\;t know what to write&hellip\;</li>\n	<li font-stretch:="" margin:="" new="" times="">I&rsquo\;m sick of it &hellip\;. it&rsquo\;s negative and full of fake stuff</li>\n	<li font-stretch:="" margin:="" new="" times="">I&rsquo\;m burned out - the last year has taken its toll - are people even paying attention?</li>\n</ul>\n\n<div color:="" helvetica="" segoe="" ui="" vertical-align:="" web="" west="">\n<p margin:="" new="" times="">Help is at hand - join Catherine McHale of Power &amp\; Purpose Marketing to get to the heart of where you should be with social right now for your small business - without the dread and overwhelm.&nbsp\;</p>\n</div>\n\n<div color:="" helvetica="" segoe="" ui="" vertical-align:="" web="" west="">\n<p margin:="" new="" times="">You will learn:</p>\n</div>\n\n<ul font-size:="" helvetica="" margin-bottom:="" margin-top:="" segoe="" type="disc" ui="" web="" west="">\n	<li font-stretch:="" margin:="" new="" times="">How to align your social with where you want your business to go</li>\n	<li font-stretch:="" margin:="" new="" times="">How people are responding to social media right now</li>\n	<li font-stretch:="" margin:="" new="" times="">Which elements to focus on and what you can drop like a stone ASAP</li>\n	<li font-stretch:="" margin:="" new="" times="">How to build a system that can put you in control of your social media&nbsp\;</li>\n	<li font-stretch:="" margin:="" new="" times="">The best ways to schedule\, and what the heck to write about anyway</li>\n</ul>\n\n<div color:="" helvetica="" segoe="" ui="" vertical-align:="" web="" west="">\n<p margin:="" new="" times="">No wailing\, no fussing\, no &quot\;infobabble&quot\; - just an actionable guide for what to do right now without having your life taken over.&nbsp\;</p>\n</div>\n\n<div color:="" helvetica="" segoe="" ui="" vertical-align:="" web="" west="">\n<p margin:="" new="" times="">&nbsp\;</p>\n</div>\n\n<div color:="" helvetica="" segoe="" ui="" vertical-align:="" web="" west="">\n<p margin:="" new="" times=""><strong>About the Presenter</strong></p>\n</div>\n\n<div color:="" helvetica="" segoe="" ui="" vertical-align:="" web="" west="">\n<p margin:="" new="" times="">At Power &amp\; Purpose Marketing\, Catherine McHale helps small businesses take the leap to the next stage of their growth through fresh\, creative strategic marketing. Through her support businesses can gain clarity on their current situation\, and then work on innovative marketing solutions that develop communities and create sales growth.</p>\n</div>\n\n<div color:="" helvetica="" segoe="" ui="" vertical-align:="" web="" west="">\n<p margin:="" new="" times="">Born and brought up in the UK\, her significant background in blue chip technology marketing (including senior roles at Apple) spans on and offline communications\, channel marketing\, strategic branding\, product management\, multi-level communications\, small business programs and PR.</p>\n</div>\n\n<div color:="" helvetica="" segoe="" ui="" vertical-align:="" web="" west="">\n<p margin:="" new="" times="">Since relocating to Colorado in 2011 Catherine has enjoyed making strategic impact with small and medium businesses using best practice techniques that combine big brand knowledge with small business local sensibilities.&nbsp\;</p>\n</div>\n
LOCATION:This is a hybrid event with a limited in-person audience. If you are interested in attending in person\, please register for this event AND complete the interest survey sent in the registration confirmation.
UID:e.3083.8188
SEQUENCE:3
DTSTAMP:20260424T172304Z
URL:https://members.longmontchamber.org/events/details/social-media-for-the-anti-social-8188
END:VEVENT

END:VCALENDAR
