BEGIN:VCALENDAR
VERSION:2.0
PRODID:-//ChamberMaster//Event Calendar 2.0//EN
METHOD:PUBLISH
X-PUBLISHED-TTL:P3D
REFRESH-INTERVAL:P3D
CALSCALE:GREGORIAN
BEGIN:VEVENT
DTSTART:20250114T010000Z
DTEND:20250114T023000Z
X-MICROSOFT-CDO-ALLDAYEVENT:FALSE
SUMMARY:SOSSAS: Future of Active Citizens-Focusing\, leveraging\, and expanding Goodness in Organizations
DESCRIPTION:Join the School of Statesmanship\, Stewardship\, and Service for this 5-week series of classes for leaders\, appointed and elected officials\, and engaged citizens in the community.  You will learn how to awaken your power\, work together\, and create a vision for the future.  The classes include research and discussion for technical and adaptive challenges in a democracy as well as the 'Art of Inviting\, Convening\, and Facilitating'\, leading groups of people as we create a better future.
X-ALT-DESC;FMTTYPE=text/html:<br />\nJoin the School of Statesmanship\, Stewardship\, and Service for this 5-week series of classes for leaders\, appointed and elected officials\, and engaged citizens in the community.&nbsp\; You will learn how to awaken your power\, work together\, and create a vision for the future.&nbsp\; The classes include research and discussion for technical and adaptive challenges in a democracy as well as the &#39\;Art of Inviting\, Convening\, and Facilitating&#39\;\, leading groups of people as we create a better future.
LOCATION:Longmont Area Chamber of Commerce *Please use back entrance
UID:e.3083.10727
SEQUENCE:3
DTSTAMP:20260421T190530Z
URL:https://members.longmontchamber.org/events/details/sossas-future-of-active-citizens-focusing-leveraging-and-expanding-goodness-in-organizations-10727
END:VEVENT

END:VCALENDAR
