BEGIN:VCALENDAR
VERSION:2.0
PRODID:-//ChamberMaster//Event Calendar 2.0//EN
METHOD:PUBLISH
X-PUBLISHED-TTL:P3D
REFRESH-INTERVAL:P3D
CALSCALE:GREGORIAN
BEGIN:VEVENT
DTSTART:20241003T000000Z
DTEND:20241003T013000Z
X-MICROSOFT-CDO-ALLDAYEVENT:FALSE
SUMMARY:SOSSAS: Rights with Responsibilities - Democracy and the Community
DESCRIPTION:SOSSAS (School of Statesmanship\, Stewardship\, and Service) presents 5 weeks of interactive training for Rights with Responsibilities: Democracy and The Community. These 90-minute sessions focus on Cultivating Social Capital\, Conflict Resolution\, Perceptual Flexibility\, Restorative Practices and Principles\, Asking Powerful Questions\, Transformational Conversation\, and Reframing Perspectives - Context & Paradigms.  In this fast-paced world\, you\, your organization\, and your business can create a future we all want to live into\, especially within community. SOSSAS works to foster civility\, thoughtful discourse and empathic listening.  We educate\, promote and encourage active citizenship within a democracy by embracing stewardship principles a s a basis for leadership. Join us in the new Chamber conference room for engaging and collaborative learning that can be applied directly to your role as community leaders. Register at Rights with Responsibilities: Democracy and the Community - Week 1 - School of Statesmanship\, Stewardship\, and Service (SOSSAS)
X-ALT-DESC;FMTTYPE=text/html:SOSSAS (School of Statesmanship\, Stewardship\, and Service) presents 5 weeks of interactive training for <strong>Rights with Responsibilities: Democracy and The Community</strong>. These 90-minute sessions focus on <strong>Cultivating Social Capital\, Conflict Resolution\, Perceptual Flexibility\, Restorative Practices and Principles\, Asking Powerful Questions\, Transformational Conversation\, and Reframing Perspectives - Context &amp\; Paradigms</strong>.&nbsp\; In this fast-paced world\, you\, your organization\, and your business can create a future we all want to live into\, especially within community. SOSSAS works to foster civility\, thoughtful discourse and empathic listening.&nbsp\; We educate\, promote and encourage active citizenship within a democracy by embracing stewardship principles a s a basis for leadership. Join us in the new Chamber conference room for engaging and collaborative learning that can be applied directly to your role as community leaders. Register at&nbsp\;<a href="https://sossas.org/event/rights-with-responsibilities-democracy-and-the-community-week-1/">Rights with Responsibilities: Democracy and the Community - Week 1 - School of Statesmanship\, Stewardship\, and Service (SOSSAS)</a>
LOCATION:Longmont Area Chamber of Commerce 528 Main St Longmont\, Colorado Enter in back door
UID:e.3083.10217
SEQUENCE:3
DTSTAMP:20260422T000310Z
URL:https://members.longmontchamber.org/events/details/sossas-rights-with-responsibilities-democracy-and-the-community-10-02-2024-10217
END:VEVENT

END:VCALENDAR
