BEGIN:VCALENDAR
VERSION:2.0
PRODID:-//ChamberMaster//Event Calendar 2.0//EN
METHOD:PUBLISH
X-PUBLISHED-TTL:P3D
REFRESH-INTERVAL:P3D
CALSCALE:GREGORIAN
BEGIN:VEVENT
DTSTART:20251205T023000Z
DTEND:20251205T050000Z
X-MICROSOFT-CDO-ALLDAYEVENT:FALSE
SUMMARY:Soundpost Sessions LOCAL SPOTLIGHT: Salome Songbird w/ Patrick Dethlefs
DESCRIPTION:Join us for an intimate evening of music right in Downtown Longmont with Salome Songbird and Patrick Dethlefs\n\n\n\n\n\n\n\n\n\nHighlights\n\n\n\n\n\n\n\n\n\n\n\n\n\n\n\n\n	2 hours 30 minutes\n	In person\n\n\n\n\n\n\n\nRefund Policy\n\nRefunds up to 7 days before event\n\n\n\n\n\n\n \n\n\n\n\n\n\n\nAbout this event\n\n\nArts   Musical\n\n\n\n\n\n\nSalome Songbird\n\nAt a glance another string band\, Salom  Songbird has been honing their distinct take on acoustic music   self described as scathing lullabies   for live audiences around Colorado. Band Members Ariele Macadangdang\, Joy Adams\, and Bryan Dubrow originally met in the mid 2010's and reunited in 2022 with ambitions to push themselves   and audiences   musically and emotionally.\n\nAs an "eclectic\, free spirited acoustic trio" Salom  Songbird's sound "comes from each individual's musical background blending together in sync." Their professional histories span old time and bluegrass\, to jazz\, pop\, and death metal\; members have performed with artists including Darol Anger\, Nathaniel Rateliff\, The Flobots\, Kygo\, Ben Folds\, and Dave Liebman. As a trio they channel this variety of influences into original music inspired by mental health\, religious trauma\, and cartoons.\n\nSalom  Songbird released their debut single "Jellyfish" in January of 2025.\n\nPatrick Dethlefs\n\nPronounced "DET-Lefs\," Patrick Dethlefs' songwriting crests like a humble Townes Van Zandt\, innocent of his own haunting melodies and lyricism. Dethlefs' music offers folk Americana with effortless sincerity at a time when many acts strive purposefully to revive the stripped-down feel of a musical history long past. "Dethlefs finds poetry in the memories and that slight pain in the laugh lines." - Daytrotter
X-ALT-DESC;FMTTYPE=text/html:<div>\n<div>\n<p>Join us for an intimate evening of music right in Downtown Longmont with Salome Songbird and Patrick Dethlefs</p>\n</div>\n</div>\n\n<div>\n<div>\n<div>\n<div>\n<div>\n<div>\n<h2>Highlights</h2>\n</div>\n</div>\n</div>\n</div>\n</div>\n</div>\n\n<div>\n<div>\n<div>\n<div>\n<div>\n<div>\n<div>\n<div>\n<ul>\n	<li>2 hours 30 minutes</li>\n	<li>In person</li>\n</ul>\n</div>\n</div>\n</div>\n\n<div>\n<div>\n<h2>Refund Policy</h2>\n\n<div>Refunds up to 7 days before event</div>\n</div>\n</div>\n</div>\n</div>\n</div>\n\n<div>&nbsp\;</div>\n</div>\n</div>\n\n<div>\n<div>\n<div>\n<div>\n<h2>About this event</h2>\n</div>\n\n<div><span style="background-color:rgb(248\, 247\, 250)\; color:rgb(58\, 50\, 71)\; font-family:neue plak\,-apple-system\,blinkmacsystemfont\,roboto\,helvetica neue\,helvetica\,tahoma\,arial\,sans-serif\; font-size:0.875rem">Arts &bull\; Musical</span></div>\n\n<div>\n<div>\n<div>\n<div>\n<div>\n<p><strong>Salome Songbird</strong></p>\n\n<p>At a glance another string band\, Salom&eacute\; Songbird has been honing their distinct take on acoustic music &ndash\; self described as scathing lullabies &ndash\; for live audiences around Colorado. Band Members Ariele Macadangdang\, Joy Adams\, and Bryan Dubrow originally met in the mid 2010&rsquo\;s and reunited in 2022 with ambitions to push themselves &ndash\; and audiences &ndash\; musically and emotionally.</p>\n\n<p>As an &ldquo\;eclectic\, free spirited acoustic trio&rdquo\; Salom&eacute\; Songbird&rsquo\;s sound &ldquo\;comes from each individual&rsquo\;s musical background blending together in sync.&rdquo\; Their professional histories span old time and bluegrass\, to jazz\, pop\, and death metal\; members have performed with artists including Darol Anger\, Nathaniel Rateliff\, The Flobots\, Kygo\, Ben Folds\, and Dave Liebman. As a trio they channel this variety of influences into original music inspired by mental health\, religious trauma\, and cartoons.</p>\n\n<p>Salom&eacute\; Songbird released their debut single &ldquo\;Jellyfish&rdquo\; in January of 2025.</p>\n\n<p><strong>Patrick Dethlefs</strong></p>\n\n<p>Pronounced &ldquo\;DET-Lefs\,&quot\; Patrick Dethlefs&rsquo\; songwriting crests like a humble Townes Van Zandt\, innocent of his own haunting melodies and lyricism. Dethlefs&rsquo\; music offers folk Americana with effortless sincerity at a time when many acts strive purposefully to revive the stripped-down feel of a musical history long past. &ldquo\;Dethlefs finds poetry in the memories and that slight pain in the laugh lines.&rdquo\; - Daytrotter</p>\n</div>\n</div>\n</div>\n</div>\n</div>\n</div>\n</div>\n</div>\n
LOCATION:The Times Collaborative
UID:e.3083.14631
SEQUENCE:3
DTSTAMP:20260421T015947Z
URL:https://members.longmontchamber.org/events/details/soundpost-sessions-local-spotlight-salome-songbird-w-patrick-dethlefs-14631
END:VEVENT

END:VCALENDAR
