BEGIN:VCALENDAR
VERSION:2.0
PRODID:-//ChamberMaster//Event Calendar 2.0//EN
METHOD:PUBLISH
X-PUBLISHED-TTL:P3D
REFRESH-INTERVAL:P3D
CALSCALE:GREGORIAN
BEGIN:VEVENT
DTSTART:20251009T010000Z
DTEND:20251009T030000Z
X-MICROSOFT-CDO-ALLDAYEVENT:FALSE
SUMMARY:Speed Dating at Axe Me Out
DESCRIPTION:Ditch the apps and make real connections. Join us for a playful and engaging speed dating night for singles ages 30 45.\n\n\n\nHeld at Axe Me Out\, the evening includes fun conversation\, throwing stars\, and lighthearted tactile icebreakers at each table to help you connect naturally.\n\n\n\nThis event is for heterosexual men and women looking to meet someone special in a relaxed\, down-to-earth setting. Come curious   leave with a spark! (Sponsored by Heart's Wisdom - Relationship Coaching)\n\n\n\nPurchase tickets for $20.00 in advance at:  https://www.justaxemeout.com/event-details/axe-me-out-speed-dating
X-ALT-DESC;FMTTYPE=text/html:<p><br />\n<span style="font-size:20px\;">Ditch the apps and make real connections. Join us for a playful and engaging speed dating night for singles ages 30&ndash\;45.<br />\n<br />\nHeld at Axe Me Out\, the evening includes fun&nbsp\;conversation\, throwing stars\, and lighthearted tactile icebreakers at each table to help you connect naturally.<br />\n<br />\nThis event is for heterosexual men and women looking to meet someone special in a relaxed\, down-to-earth setting. Come curious &mdash\; leave with a spark! (Sponsored by Heart&#39\;s Wisdom - Relationship Coaching)<br />\n<br />\nPurchase tickets for $20.00 in advance at:&nbsp\;&nbsp\;<a href="https://www.justaxemeout.com/event-details/axe-me-out-speed-dating">https://www.justaxemeout.com/event-details/axe-me-out-speed-dating</a></span></p>\n
LOCATION:Axe Me Out
UID:e.3083.14230
SEQUENCE:3
DTSTAMP:20260421T051444Z
URL:https://members.longmontchamber.org/events/details/speed-dating-at-axe-me-out-14230
END:VEVENT

END:VCALENDAR
