BEGIN:VCALENDAR
VERSION:2.0
PRODID:-//ChamberMaster//Event Calendar 2.0//EN
METHOD:PUBLISH
X-PUBLISHED-TTL:P3D
REFRESH-INTERVAL:P3D
CALSCALE:GREGORIAN
BEGIN:VEVENT
DTSTART:20241025T230000Z
DTEND:20241026T010000Z
X-MICROSOFT-CDO-ALLDAYEVENT:FALSE
SUMMARY:Spooky Business After Hours at The Fox Hill Club
DESCRIPTION:Business After Hours is a monthly networking opportunity for Chamber Members and potential Chamber Members.  Meet other local movers and shakers while enjoying local food and beverage.  \n\n\n\nBusiness After Hours is held at a different location each month so members can experience a variety of businesses throughout the year.  Each event boasts 100-150 in attendance.\n\n\n\nJoin us at the Fox Hill Club for a Halloween-themed Business After Hours!
X-ALT-DESC;FMTTYPE=text/html:Business After Hours is a monthly networking opportunity for Chamber Members and potential Chamber Members.&nbsp\; Meet other local movers and shakers while enjoying local food and beverage.&nbsp\;&nbsp\;<br />\n<br />\nBusiness After Hours is held at a different location each month so members can experience a variety of businesses throughout the year.&nbsp\; Each event boasts 100-150 in attendance.<br />\n<br />\nJoin us at the Fox Hill Club for a Halloween-themed Business After Hours!&nbsp\;
LOCATION:
UID:e.3083.9998
SEQUENCE:3
DTSTAMP:20260421T235754Z
URL:https://members.longmontchamber.org/events/details/spooky-business-after-hours-at-the-fox-hill-club-9998
END:VEVENT

END:VCALENDAR
