BEGIN:VCALENDAR
VERSION:2.0
PRODID:-//ChamberMaster//Event Calendar 2.0//EN
METHOD:PUBLISH
X-PUBLISHED-TTL:P3D
REFRESH-INTERVAL:P3D
CALSCALE:GREGORIAN
BEGIN:VEVENT
DTSTART:20240320T190000Z
DTEND:20240320T220000Z
X-MICROSOFT-CDO-ALLDAYEVENT:FALSE
SUMMARY:Spring Market
DESCRIPTION:Shop local artisans\, makers and businesses\n\n\n\nAll vendors accept cash and credit cards. \n\n\n\nResidents\, families and friends welcome!
X-ALT-DESC;FMTTYPE=text/html:Shop local artisans\, makers and businesses<br />\n<br />\nAll vendors accept cash and credit cards.&nbsp\;<br />\n<br />\nResidents\, families and friends welcome!
LOCATION:Holiday Longmont Regent 2210 Main St. Longmont\, CO 80501
UID:e.3083.10069
SEQUENCE:3
DTSTAMP:20260422T115524Z
URL:https://members.longmontchamber.org/events/details/spring-market-10069
END:VEVENT

END:VCALENDAR
