BEGIN:VCALENDAR
VERSION:2.0
PRODID:-//ChamberMaster//Event Calendar 2.0//EN
METHOD:PUBLISH
X-PUBLISHED-TTL:P3D
REFRESH-INTERVAL:P3D
CALSCALE:GREGORIAN
BEGIN:VEVENT
DTSTART:20241102T230000Z
DTEND:20241103T030000Z
X-MICROSOFT-CDO-ALLDAYEVENT:FALSE
SUMMARY:St.Vrain Valley Gala
DESCRIPTION:Join us for an evening of inspiration and impact as we come together to support the future of our communities\, state\, and nation through public education. Proceeds from the event support the St. Vrain Valley Schools Education Foundation\, dedicated to enhancing student success and teacher excellence in St. Vrain Valley Schools.
X-ALT-DESC;FMTTYPE=text/html:<span style="font-size:14px"><span style="font-family:tahoma">Join us for an evening of inspiration and impact as we come together to support the future of our communities\, state\, and nation through public education.&nbsp\;<span style="color:rgb(0\, 0\, 0)">Proceeds from the event support the <strong>St. Vrain Valley Schools Education Foundation</strong>\, dedicated to enhancing student success and teacher excellence in St. Vrain Valley Schools.</span></span></span>
LOCATION:Omni Interlocken\, Broomfield
UID:e.3083.10268
SEQUENCE:3
DTSTAMP:20260421T235317Z
URL:https://members.longmontchamber.org/events/details/st-vrain-valley-gala-10268
END:VEVENT

END:VCALENDAR
