BEGIN:VCALENDAR
VERSION:2.0
PRODID:-//ChamberMaster//Event Calendar 2.0//EN
METHOD:PUBLISH
X-PUBLISHED-TTL:P3D
REFRESH-INTERVAL:P3D
CALSCALE:GREGORIAN
BEGIN:VEVENT
DTSTART:20250817T000000Z
DTEND:20250817T030000Z
X-MICROSOFT-CDO-ALLDAYEVENT:FALSE
SUMMARY:Steely Dead
DESCRIPTION:Come listen to an eclectic fusion of Steely Dan & Grateful Dead along with craft beer and more under Wibby's open-air pavilion\, FestGarten!
X-ALT-DESC;FMTTYPE=text/html:<br />\n<span style="font-family:poppins\,sans-serif\; font-size:14px"><span style="font-size:20px\;">Come listen to an eclectic fusion of Steely Dan &amp\; Grateful Dead along with craft beer and more under Wibby&#39\;s open-air pavilion\, FestGarten!</span></span>
LOCATION:Wibby Brewing
UID:e.3083.13976
SEQUENCE:3
DTSTAMP:20260421T093617Z
URL:https://members.longmontchamber.org/events/details/steely-dead-13976
END:VEVENT

END:VCALENDAR
