BEGIN:VCALENDAR
VERSION:2.0
PRODID:-//ChamberMaster//Event Calendar 2.0//EN
METHOD:PUBLISH
X-PUBLISHED-TTL:P3D
REFRESH-INTERVAL:P3D
CALSCALE:GREGORIAN
BEGIN:VEVENT
DTSTART:20220724T000000Z
DTEND:20220724T050000Z
X-MICROSOFT-CDO-ALLDAYEVENT:FALSE
SUMMARY:Stranger Things Dance Party with DJ Drake & Rising Tiger
DESCRIPTION:Join us at The Times Collaborative located at 338 Main Street\, for LONGMONT UPSIDE DOWN! \n\nHosted by Dj Drake playing STRANGER THINGS themed 80s & 90s Dance Party!\n\n\n\n6pm-9pm 14 years + a ticket will contain entry fee and a waffle at Eleven's EGGO EXTRAVAGANZA!\n\n\n\nAfter 9pm 21+ entry only so we turn up the music & drinks! Beer\, wine\, Boozy Coca Cola Slushies! Eleven's EGGO Sandwhiches will be available as well!\n\n\n\nWe hope to see you there!
X-ALT-DESC;FMTTYPE=text/html:<p><span style="font-size:14px"><span style="font-family:times new roman">Join us at The Times Collaborative located at 338 Main Street\, for LONGMONT UPSIDE DOWN!&nbsp\;<br />\nHosted by Dj Drake playing STRANGER THINGS themed 80s &amp\; 90s Dance Party!<br />\n<br />\n6pm-9pm 14 years + a ticket will contain entry fee and a waffle at Eleven&#39\;s EGGO EXTRAVAGANZA!<br />\n<br />\nAfter 9pm 21+ entry only so we turn up the music &amp\; drinks! Beer\, wine\, Boozy Coca Cola Slushies! Eleven&#39\;s EGGO Sandwhiches will be available as well!<br />\n<br />\nWe hope to see you there!</span></span></p>\n
LOCATION:The Times Collaborative\, 338 Main St
UID:e.3083.8832
SEQUENCE:3
DTSTAMP:20260423T193123Z
URL:https://members.longmontchamber.org/events/details/stranger-things-dance-party-with-dj-drake-rising-tiger-8832
END:VEVENT

END:VCALENDAR
