BEGIN:VCALENDAR
VERSION:2.0
PRODID:-//ChamberMaster//Event Calendar 2.0//EN
METHOD:PUBLISH
X-PUBLISHED-TTL:P3D
REFRESH-INTERVAL:P3D
CALSCALE:GREGORIAN
BEGIN:VEVENT
DTSTART:20230125T220000Z
DTEND:20230125T230000Z
X-MICROSOFT-CDO-ALLDAYEVENT:FALSE
SUMMARY:Strategies\, Networking Group
DESCRIPTION:At Strategies\, we offer a warm and inviting business environment. We are more than a networking group. We take a step further\, to truly connect with one another and our community.  We are a place where resources are abundant\, support and collaboration are plentiful and\, we care. Our atmosphere creates a great place to grow closer to people you already know.  And from this platform\, leads flow easily.  We begin our meetings with a Welcome\, and then we discuss upcoming Chamber or members' business events.  We share business ideas and then introduce a guest presenter or alternatively\, a member highlights an aspect of their own business.  We meet for an hour.  We meet in a variety of locations\, but always at the business of a Longmont Chamber member.  We welcome you to contact one of our group facilitators\, to learn more.\n\nNetworking Groups are a great way to deeply connect with other local business leaders and share leads and ideas. One representative from each industry may attend a Leads Group.\n\nPlease contact Mary Colwell the group facilitator before joining the group.
X-ALT-DESC;FMTTYPE=text/html:<p style="line-height: 1.7em\;">At Strategies\, we offer a warm and inviting business environment. We are more than a networking group. We take a step further\, to truly connect with one another and our community.&nbsp\; We are a place where resources are abundant\, support and collaboration are plentiful and\, we care. Our atmosphere creates a great place to grow closer to people you already know.&nbsp\; And from this platform\, leads flow easily.&nbsp\; We begin our meetings with a Welcome\, and then we discuss upcoming Chamber or members&#39\; business events.&nbsp\; We share business ideas and then introduce a guest presenter or alternatively\, a member highlights an aspect of their own business.&nbsp\; We meet for an hour.&nbsp\; We meet in a variety of locations\, but always at the business of a Longmont Chamber member.&nbsp\; We welcome you to contact one of our group facilitators\, to learn more.</p>\n\n<p>Networking Groups are a great way to deeply connect with other local business leaders and share leads and ideas. One representative from each industry may attend a Leads Group.</p>\n\n<p>Please contact Mary Colwell the group facilitator&nbsp\;before joining the group.&nbsp\;</p>\n
LOCATION:Please contact facilitator for location.
UID:e.3083.4886
SEQUENCE:3
DTSTAMP:20260423T102338Z
URL:https://members.longmontchamber.org/events/details/strategies-01-25-2023-4886
END:VEVENT

END:VCALENDAR
