BEGIN:VCALENDAR
VERSION:2.0
PRODID:-//ChamberMaster//Event Calendar 2.0//EN
METHOD:PUBLISH
X-PUBLISHED-TTL:P3D
REFRESH-INTERVAL:P3D
CALSCALE:GREGORIAN
BEGIN:VEVENT
DTSTART:20260225T160000Z
DTEND:20260225T170000Z
X-MICROSOFT-CDO-ALLDAYEVENT:FALSE
SUMMARY:Strategies\, Networking Group
DESCRIPTION:At Strategies\, we offer a warm & inviting business environment. We are more than a networking group. We take a step further\, to truly connect with one another and our community.  Our atmosphere is a space to grow closer to people you already know. We are a place where resources are abundant\, and support & collaboration are plentiful. We care about creating genuine & strong relationships to hone our skills to better serve & build our clientele and achieve our business goals. From this platform\, leads flow organically. We begin our meetings with informal mingling then we discuss upcoming Chamber or members' business events. We offer opportunities for our members or guest speakers to highlight an aspect of their business\, and we share business ideas. We meet for an hour. We are open to group "field trips" to various Chamber member sites to engage with our community first-hand and occasional social gatherings in lieu of a formal meeting to build connection. We strive to make our time together valuable & worthwhile by encouraging consistent in-person attendance and member participation. Our group's success is a collective effort. We welcome you to contact a group facilitator to learn more.\n\nNetworking Groups are a great way to deeply connect with other local business leaders\, share ideas and organically grow your business through relationships.\n\nOne representative from each industry may attend a Networking Group. Please contact the facilitators before attending.
X-ALT-DESC;FMTTYPE=text/html:<p>At Strategies\, we offer a warm &amp\; inviting business environment. We are more than a networking group. We take a step further\, to truly connect with one another and our community.&nbsp\; Our atmosphere is a space to grow closer to people you already know. We are a place where resources are abundant\, and support &amp\; collaboration are plentiful. We care about creating genuine &amp\; strong relationships to hone our skills to better serve &amp\; build our clientele and achieve our business goals. From this platform\, leads flow organically. We begin our meetings with informal mingling then we discuss upcoming Chamber or members&#39\; business events. We offer opportunities for our members or guest speakers to highlight an aspect of their business\, and we share business ideas.&nbsp\;We meet for an hour. We are open to group &ldquo\;field trips&rdquo\; to various Chamber member sites to engage with our community first-hand and occasional social gatherings in lieu of a formal meeting to build connection. We strive to make our time together valuable &amp\; worthwhile by encouraging consistent in-person attendance and member participation. Our group&rsquo\;s success is a collective effort. We welcome you to contact a group facilitator to learn more.</p>\n\n<p>Networking Groups are a great way to deeply connect with other local business leaders\, share&nbsp\;ideas and organically grow your business through relationships.</p>\n\n<p>One representative from each industry may attend a Networking Group. Please contact the facilitators before attending.</p>\n
LOCATION:Please contact facilitator for location.
UID:e.3083.4923
SEQUENCE:3
DTSTAMP:20260420T224957Z
URL:https://members.longmontchamber.org/events/details/strategies-02-25-2026-4923
END:VEVENT

END:VCALENDAR
