BEGIN:VCALENDAR
VERSION:2.0
PRODID:-//ChamberMaster//Event Calendar 2.0//EN
METHOD:PUBLISH
X-PUBLISHED-TTL:P3D
REFRESH-INTERVAL:P3D
CALSCALE:GREGORIAN
BEGIN:VEVENT
DTSTART:20200826T143000Z
DTEND:20200826T153000Z
X-MICROSOFT-CDO-ALLDAYEVENT:FALSE
SUMMARY:Strategies
DESCRIPTION:Strategies is a Networking Group of the Longmont Chamber and is formatted as a Business Connection Group. The goal of The Strategies Leads Group is to enhance business development and personal growth opportunities for involved Chamber members. Non-competitive business professionals meet twice monthly\, on the 2nd & 4th Wednesdays of each month\, for leads exchange\, business advice\, and network expansion. \n\nNetworking Groups are a great way to deeply connect with other local business leaders and share leads and ideas. One representative from each industry may attend a Leads Group.  \n\nPlease contact Mary Colwell the group facilitator before joining the group.
X-ALT-DESC;FMTTYPE=text/html:<span style="font-size:12px\;"><span style="color: rgb(0\, 0\, 0)\; font-family: Verdana\;">Strategies is a Networking Group of the Longmont Chamber and is formatted as a Business Connection Group. The goal of The Strategies Leads Group is to enhance business development and personal growth opportunities for involved Chamber members. Non-competitive business professionals meet twice monthly\, on the 2nd &amp\; 4th Wednesdays of each month\, for leads exchange\, business advice\, and network expansion. </span><br />\n<span style="color: rgb(0\, 0\, 0)\; font-family: Verdana\;">Networking Groups are a great way to deeply connect with other local business leaders and share leads and ideas. One representative from each industry may attend a Leads Group.&nbsp\;&nbsp\;</span><br />\n<span style="color: rgb(0\, 0\, 0)\; font-family: Verdana\;">Please contact Mary Colwell the group facilitator</span><span style="color: rgb(0\, 0\, 0)\; font-family: Verdana\;">&nbsp\;before joining the group.&nbsp\;</span></span>
LOCATION:2nd Wednesday of the month\, virtual meeting 4th Wednesday of the month\, Thompson Park (bring your mask and a chair)
UID:e.3083.4857
SEQUENCE:3
DTSTAMP:20260425T103620Z
URL:https://members.longmontchamber.org/events/details/strategies-08-26-2020-4857
END:VEVENT

END:VCALENDAR
