BEGIN:VCALENDAR
VERSION:2.0
PRODID:-//ChamberMaster//Event Calendar 2.0//EN
METHOD:PUBLISH
X-PUBLISHED-TTL:P3D
REFRESH-INTERVAL:P3D
CALSCALE:GREGORIAN
BEGIN:VEVENT
DTSTART:20191009T143000Z
DTEND:20191009T153000Z
X-MICROSOFT-CDO-ALLDAYEVENT:FALSE
SUMMARY:Strategies
DESCRIPTION:Strategies is a Networking Group of the Longmont Chamber and is formatted as a Business Connection Group. The goal of The Strategies Leads Group is to enhance business development and personal growth opportunities for involved Chamber members. Non-competitive business professionals meet twice monthly\, on the 2nd & 4th Wednesdays of each month\, for leads exchange\, business advice\, and network expansion. \n\nNetworking Groups are a great way to deeply connect with other local business leaders and share leads and ideas. One representative from each industry may attend a Leads Group.  \n\nPlease contact the group facilitator before joining the group.
X-ALT-DESC;FMTTYPE=text/html:<span style="font-size: 12px\; color: rgb(0\, 0\, 0)\; font-family: Verdana\;">Strategies is a Networking Group of the Longmont Chamber and is formatted as a Business Connection Group. The goal of The Strategies Leads Group is to enhance business development and personal growth opportunities for involved Chamber members. Non-competitive business professionals meet twice monthly\, on the 2nd &amp\; 4th Wednesdays of each month\, for leads exchange\, business advice\, and network expansion.&nbsp\;</span><br style="font-size: 12px\;" />\n<span style="font-size: 12px\; color: rgb(0\, 0\, 0)\; font-family: Verdana\;">Networking Groups are a great way to deeply connect with other local business leaders and share leads and ideas. One representative from each industry may attend a Leads Group.&nbsp\;&nbsp\;</span><br style="font-size: 12px\;" />\n<span style="font-size: 12px\; color: rgb(0\, 0\, 0)\; font-family: Verdana\;">Please contact the group facilitator</span><span style="font-size: 12px\; color: rgb(0\, 0\, 0)\; font-family: Verdana\;">&nbsp\;before joining the group.&nbsp\;</span>
LOCATION:Aime's Love Bakery 331 Main St. Longmont\, CO 80501
UID:e.3083.4714
SEQUENCE:3
DTSTAMP:20260426T010901Z
URL:https://members.longmontchamber.org/events/details/strategies-10-09-2019-4714
END:VEVENT

END:VCALENDAR
