BEGIN:VCALENDAR
VERSION:2.0
PRODID:-//ChamberMaster//Event Calendar 2.0//EN
METHOD:PUBLISH
X-PUBLISHED-TTL:P3D
REFRESH-INTERVAL:P3D
CALSCALE:GREGORIAN
BEGIN:VEVENT
DTSTART:20210113T153000Z
DTEND:20210113T163000Z
X-MICROSOFT-CDO-ALLDAYEVENT:FALSE
SUMMARY:Strategies\, Networking Group
DESCRIPTION:Strategies is a Networking Group of the Longmont Chamber and is formatted as a Business Connection Group. The goal of The Strategies Leads Group is to enhance business development and personal growth opportunities for involved Chamber members. Non-competitive business professionals meet twice monthly\, on the 2nd & 4th Wednesdays of each month\, for leads exchange\, business advice\, and network expansion. \n\nNetworking Groups are a great way to deeply connect with other local business leaders and share leads and ideas. One representative from each industry may attend a Leads Group.\n\nPlease contact the group facilitator before joining the group.
X-ALT-DESC;FMTTYPE=text/html:<p style="font-weight:400\; line-height: 1.7em\;">Strategies is a Networking Group of the Longmont Chamber and is formatted as a Business Connection Group. The goal of The Strategies Leads Group is to enhance business development and personal growth opportunities for involved Chamber members. Non-competitive business professionals meet twice monthly\, on the 2nd &amp\; 4th Wednesdays of each month\, for leads exchange\, business advice\, and network expansion.&nbsp\;</p>\n\n<p style="font-weight:400\; line-height: 1.7em\;">Networking Groups are a great way to deeply connect with other local business leaders and share leads and ideas. One representative from each industry may attend a Leads Group.</p>\n\n<p style="font-weight:400\; line-height: 1.7em\;">Please contact the group facilitator before joining the group.</p>\n
LOCATION:Virtual Strategies meets twice monthly: every 2nd Wednesday at 8:30 AM and 4th Wednesday at 3:00 PM.
UID:e.3083.4729
SEQUENCE:3
DTSTAMP:20260425T021626Z
URL:https://members.longmontchamber.org/events/details/strategies-networking-group-01-13-2021-4729
END:VEVENT

END:VCALENDAR
