BEGIN:VCALENDAR
VERSION:2.0
PRODID:-//ChamberMaster//Event Calendar 2.0//EN
METHOD:PUBLISH
X-PUBLISHED-TTL:P3D
REFRESH-INTERVAL:P3D
CALSCALE:GREGORIAN
BEGIN:VEVENT
DTSTART:20220113T033000Z
DTEND:20220113T043000Z
X-MICROSOFT-CDO-ALLDAYEVENT:FALSE
SUMMARY:Strategies\, Networking Group
DESCRIPTION:Strategies is a Networking Group of the Longmont Chamber and is formatted as a Business Connection Group. The goal of The Strategies Leads Group is to enhance business development and personal growth opportunities for involved Chamber members. Non-competitive business professionals meet twice monthly\, on the 2nd & 4th Wednesdays of each month\, for leads exchange\, business advice\, and network expansion.\n\nNetworking Groups are a great way to deeply connect with other local business leaders and share leads and ideas. One representative from each industry may attend a Leads Group.\n\nPlease contact Mary Colwell the group facilitator before joining the group.
X-ALT-DESC;FMTTYPE=text/html:<p>Strategies is a Networking Group of the Longmont Chamber and is formatted as a Business Connection Group. The goal of The Strategies Leads Group is to enhance business development and personal growth opportunities for involved Chamber members. Non-competitive business professionals meet twice monthly\, on the 2nd &amp\; 4th Wednesdays of each month\, for leads exchange\, business advice\, and network expansion.</p>\n\n<p>Networking Groups are a great way to deeply connect with other local business leaders and share leads and ideas. One representative from each industry may attend a Leads Group.</p>\n\n<p>Please contact Mary Colwell the group facilitator&nbsp\;before joining the group.&nbsp\;</p>\n
LOCATION:Currently meeting in a hybrid format with in-person and virtual options available. Contact Facilitator for details!
UID:e.3083.8646
SEQUENCE:3
DTSTAMP:20260424T060624Z
URL:https://members.longmontchamber.org/events/details/strategies-networking-group-8646
END:VEVENT

END:VCALENDAR
