BEGIN:VCALENDAR
VERSION:2.0
PRODID:-//ChamberMaster//Event Calendar 2.0//EN
METHOD:PUBLISH
X-PUBLISHED-TTL:P3D
REFRESH-INTERVAL:P3D
CALSCALE:GREGORIAN
BEGIN:VEVENT
DTSTART:20240724T220000Z
DTEND:20240725T000000Z
X-MICROSOFT-CDO-ALLDAYEVENT:FALSE
SUMMARY:Strategies Networking Group: July Social Gathering
DESCRIPTION:Join the Chamber's Strategies Networking group members for a casual gathering at Longmont Social!
X-ALT-DESC;FMTTYPE=text/html:Join the Chamber&#39\;s Strategies Networking group members for a casual gathering at Longmont Social!
LOCATION:Longmont Social 2025 Ionosphere St. Longmont\, CO 80504
UID:e.3083.10153
SEQUENCE:3
DTSTAMP:20260422T060923Z
URL:https://members.longmontchamber.org/events/details/strategies-networking-group-july-social-gathering-10153
END:VEVENT

END:VCALENDAR
