BEGIN:VCALENDAR
VERSION:2.0
PRODID:-//ChamberMaster//Event Calendar 2.0//EN
METHOD:PUBLISH
X-PUBLISHED-TTL:P3D
REFRESH-INTERVAL:P3D
CALSCALE:GREGORIAN
BEGIN:VEVENT
DTSTART:20251119T010000Z
DTEND:20251119T023000Z
X-MICROSOFT-CDO-ALLDAYEVENT:FALSE
SUMMARY:Stress Proof the Holidays with Zoilita Grant
DESCRIPTION:The holidays should be a time of joy\, connection\, and meaning yet for many\, they bring stress\, overwhelm\, and exhaustion. In this 90-minute live Zoom class with Zoilita Grant\, Master Hypnotic Coach\, you'll learn powerful\, practical tools to calm your nervous system\, manage your mindset\, and truly enjoy the season. Through guided exercises\, subconscious techniques\, and experiential processes\, you will leave not only more relaxed but also with a clear plan for creating holidays filled with peace\, balance\, and joy.\n\nBonus: Each participant receives a custom eBook filled with strategies\, reflection prompts\, and practical exercises\, plus a downloadable MP3 hypnosis session to reinforce calm and clarity throughout the holiday season. https://buy.stripe.com/4gM00j2wI4bv05E8T53cc00\n\nLearning Outcomes\n\nBy the end of this class\, participants will:\n\n  Discover how to shift from stress to calm in minutes using simple mind-body tools.\n\n  Reprogram subconscious triggers that fuel holiday anxiety\, overspending\, or overwhelm.\n\n  Learn how to set boundaries with ease and create space for joy.\n\n  Design a personalized "Stress-Free Holiday Action Plan."\n\n  Experience a powerful guided hypnosis session for deep relaxation and renewal.
X-ALT-DESC;FMTTYPE=text/html:<div>The holidays should be a time of joy\, connection\, and meaning&mdash\;yet for many\, they bring stress\, overwhelm\, and exhaustion. In this 90-minute live Zoom class with Zoilita Grant\, Master Hypnotic Coach\, you&rsquo\;ll learn powerful\, practical tools to calm your nervous system\, manage your mindset\, and truly enjoy the season. Through guided exercises\, subconscious techniques\, and experiential processes\, you will leave not only more relaxed but also with a clear plan for creating holidays filled with peace\, balance\, and joy.<br />\nBonus: Each participant receives a custom eBook filled with strategies\, reflection prompts\, and practical exercises\, plus a downloadable MP3 hypnosis session to reinforce calm and clarity throughout the holiday season.&nbsp\;<a class="x1i10hfl xjbqb8w x1ejq31n x18oe1m7 x1sy0etr xstzfhl x972fbf x10w94by x1qhh985 x14e42zd x9f619 x1ypdohk xt0psk2 x3ct3a4 xdj266r x14z9mp xat24cr x1lziwak xexx8yu xyri2b x18d9i69 x1c1uobl x16tdsg8 x1hl2dhg xggy1nq x1a2a7pz xkrqix3 x1sur9pj x1fey0fg x1s688f" href="https://buy.stripe.com/4gM00j2wI4bv05E8T53cc00?fbclid=IwZXh0bgNhZW0CMTAAYnJpZBExM2E4U1VGMFZGOVdBUW5mTwEe75F5vcmGIp85ELp4RZKcANvaF4eL2vvdD9GVpE7wsbZ1yi3yYcGaB5TOxME_aem_r5fq5SEeJQ-l_9-kFQ_xBg" rel="nofollow noreferrer" style="color: rgb(0\, 100\, 209)\; cursor: pointer\; text-decoration-line: none\; text-align: inherit\; list-style-type: none\; box-sizing: border-box\; background-color: transparent\; outline: none\; -webkit-tap-highlight-color: transparent\; font-weight: 600\; touch-action: manipulation\; display: inline\; border-inline-width: 0px\; margin-inline: 0px\; border-inline-style: none\; padding-inline: 0px\; padding-bottom: 0px\; border-top-style: none\; border-bottom-width: 0px\; border-bottom-style: none\; border-top-width: 0px\; margin-bottom: 0px\; margin-top: 0px\; padding-top: 0px\; font-family: inherit\;" tabindex="0" target="_blank">https://buy.stripe.com/4gM00j2wI4bv05E8T53cc00</a></div>\n\n<div>Learning Outcomes<br />\nBy the end of this class\, participants will:<br />\n&bull\; Discover how to shift from stress to calm in minutes using simple mind-body tools.<br />\n&bull\; Reprogram subconscious triggers that fuel holiday anxiety\, overspending\, or overwhelm.<br />\n&bull\; Learn how to set boundaries with ease and create space for joy.<br />\n&bull\; Design a personalized &ldquo\;Stress-Free Holiday Action Plan.&rdquo\;<br />\n&bull\; Experience a powerful guided hypnosis session for deep relaxation and renewal.</div>\n
LOCATION:Online Zoom 11/18/25 6-7:30 pm https://www.facebook.com/events/827526099838253?active_tab=about
UID:e.3083.14623
SEQUENCE:3
DTSTAMP:20260421T051917Z
URL:https://members.longmontchamber.org/events/details/stress-proof-the-holidays-with-zoilita-grant-14623
END:VEVENT

END:VCALENDAR
