BEGIN:VCALENDAR
VERSION:2.0
PRODID:-//ChamberMaster//Event Calendar 2.0//EN
METHOD:PUBLISH
X-PUBLISHED-TTL:P3D
REFRESH-INTERVAL:P3D
CALSCALE:GREGORIAN
BEGIN:VEVENT
DTSTART:20241109T210000Z
DTEND:20241109T230000Z
X-MICROSOFT-CDO-ALLDAYEVENT:FALSE
SUMMARY:Student Musical Performance at Callahan House
DESCRIPTION:Join us for an afternoon teatime event of salon style musical entertainment as the Victorians did. Enjoy a student musical performance along with tea and teatime treats. Tea will be served before the performance with a musician's reception to follow. \n\n\n\nGeneral Admission seating. Each attendee must be registered. Doors will not be open before 2:00pm. Performance begins at 2:45pm.\n\n\n\nAll Ages\n\n\n\nFee: Free. Registration Required.
X-ALT-DESC;FMTTYPE=text/html:Join us for an afternoon teatime event of salon style musical entertainment as the Victorians did. Enjoy a student musical performance along with tea and teatime treats.<span style="color:#0D0D0D"> Tea will be served before the performance with a musician&rsquo\;s reception to follow. </span><br />\n<br />\nGeneral Admission seating. <strong>Each attendee must be registered.</strong> Doors will not be open before 2:00pm. Performance begins at 2:45pm.<br />\n<br />\nAll Ages<br />\n<br />\nFee: Free. <strong>Registration Required.</strong>
LOCATION:
UID:e.3083.10239
SEQUENCE:3
DTSTAMP:20260421T223304Z
URL:https://members.longmontchamber.org/events/details/student-musical-performance-at-callahan-house-10239
END:VEVENT

END:VCALENDAR
