BEGIN:VCALENDAR
VERSION:2.0
PRODID:-//ChamberMaster//Event Calendar 2.0//EN
METHOD:PUBLISH
X-PUBLISHED-TTL:P3D
REFRESH-INTERVAL:P3D
CALSCALE:GREGORIAN
BEGIN:VEVENT
DTSTART:20250719T230000Z
DTEND:20250720T023000Z
X-MICROSOFT-CDO-ALLDAYEVENT:FALSE
SUMMARY:Summer Concert Series: Liz Berube\, Antonio Lopez\, & DJ Drake
DESCRIPTION:We are ecstatic to welcome our Summer Concert Series on Saturdays throughout the month of July in our breezeway!\n\nCome support some of the finest locally established and award winning musicians in Longmont and the surrounding area\, as well as some up and coming hidden gems on the scene! These folks bring harmonies and heart\, inspiration and connection\, and each their own authentic and unique flavors\, rhythms\, styles\, poetry\, and musicality. \n\nFind a seat and relax in the shade of our patio and settle for an afternoon and evening of music in our breezeway.\n\nWe offer fresh\, exquisitely and thoughtfully handcrafted cocktails made with our pristine and regeneratively sourced small batch spirits\, as well as in house designed small plates to heighten and enhance the experience.\n\nWe have the honor of welcoming these exceptional humans and musicians to our breezeway stage:\n\nSaturday\, July 19th:                                                     \n\n5:00pm - Liz Berube                                         \n\n6:15pm - Antonio Lopez                                             \n\n7:30pm- DJ Drake\n\nMark your calendars for the last eve of our Summer Music Series and gather your friends and families!\n\nSaturday\, July 26th:                                                     \n\n5:00pm - Tim Ostdiek                                                 \n\n6:15pm -Jazz Unit (Vic Dillahay Trio)                           \n\n7:30pm - Ben Jenkins\n\nWe look forward to being together in community and music!
X-ALT-DESC;FMTTYPE=text/html:<p>We are ecstatic to welcome our Summer Concert Series on Saturdays throughout the month of July in our breezeway!</p>\n\n<p>Come support some of the finest locally established and award winning musicians in Longmont and the surrounding area\, as well as some up and coming hidden gems on the scene! These folks bring harmonies and heart\, inspiration and connection\, and each their own authentic and unique flavors\, rhythms\, styles\, poetry\, and musicality.&nbsp\;</p>\n\n<p>Find a seat and relax in the shade of our patio and settle for an afternoon and evening of music in our breezeway.</p>\n\n<p>We offer fresh\, exquisitely and thoughtfully handcrafted cocktails made with our pristine and regeneratively sourced small batch spirits\, as well as in house designed small plates to heighten and enhance the experience.</p>\n\n<p>We have the honor of welcoming these exceptional humans and musicians to our breezeway stage:</p>\n\n<p>Saturday\, July 19th:&nbsp\; &nbsp\; &nbsp\; &nbsp\; &nbsp\; &nbsp\; &nbsp\; &nbsp\; &nbsp\; &nbsp\; &nbsp\; &nbsp\; &nbsp\; &nbsp\; &nbsp\; &nbsp\; &nbsp\; &nbsp\; &nbsp\; &nbsp\; &nbsp\; &nbsp\; &nbsp\; &nbsp\; &nbsp\; &nbsp\; &nbsp\;<br />\n5:00pm -&nbsp\;<a href="https://lizberubemusic.com/home">Liz Berube</a>&nbsp\; &nbsp\; &nbsp\; &nbsp\; &nbsp\; &nbsp\; &nbsp\; &nbsp\; &nbsp\; &nbsp\; &nbsp\; &nbsp\; &nbsp\; &nbsp\; &nbsp\; &nbsp\; &nbsp\; &nbsp\; &nbsp\; &nbsp\; &nbsp\;<br />\n6:15pm -&nbsp\;<a href="https://www.antoniolopezmusic.com/">Antonio Lopez</a>&nbsp\; &nbsp\; &nbsp\; &nbsp\; &nbsp\; &nbsp\; &nbsp\; &nbsp\; &nbsp\; &nbsp\; &nbsp\; &nbsp\; &nbsp\; &nbsp\; &nbsp\; &nbsp\; &nbsp\; &nbsp\; &nbsp\; &nbsp\; &nbsp\; &nbsp\; &nbsp\;<br />\n7:30pm-&nbsp\;<a href="https://djdrake1.com/">DJ Drake</a></p>\n\n<p>Mark your calendars for the last eve of our Summer Music Series and gather your friends and families!</p>\n\n<p>Saturday\, July 26th:&nbsp\; &nbsp\; &nbsp\; &nbsp\; &nbsp\; &nbsp\; &nbsp\; &nbsp\; &nbsp\; &nbsp\; &nbsp\; &nbsp\; &nbsp\; &nbsp\; &nbsp\; &nbsp\; &nbsp\; &nbsp\; &nbsp\; &nbsp\; &nbsp\; &nbsp\; &nbsp\; &nbsp\; &nbsp\; &nbsp\; &nbsp\;<br />\n5:00pm -&nbsp\;<a href="https://timostdiek.com/">Tim Ostdiek</a>&nbsp\; &nbsp\; &nbsp\; &nbsp\; &nbsp\; &nbsp\; &nbsp\; &nbsp\; &nbsp\; &nbsp\; &nbsp\; &nbsp\; &nbsp\; &nbsp\; &nbsp\; &nbsp\; &nbsp\; &nbsp\; &nbsp\; &nbsp\; &nbsp\; &nbsp\; &nbsp\; &nbsp\; &nbsp\;<br />\n6:15pm -Jazz Unit (<a href="https://vicdillahay.com/">Vic Dillahay</a>&nbsp\;Trio)&nbsp\; &nbsp\; &nbsp\; &nbsp\; &nbsp\; &nbsp\; &nbsp\; &nbsp\; &nbsp\; &nbsp\; &nbsp\; &nbsp\; &nbsp\; &nbsp\;<br />\n7:30pm -&nbsp\;<a href="https://www.facebook.com/thebenjenkins">Ben Jenkins</a></p>\n\n<p>We look forward to being together in community and music!</p>\n
LOCATION:Dry Land Distillers
UID:e.3083.13574
SEQUENCE:3
DTSTAMP:20260421T095615Z
URL:https://members.longmontchamber.org/events/details/summer-concert-series-elizabeth-berube-antonio-lopez-dj-drake-13574
END:VEVENT

END:VCALENDAR
