BEGIN:VCALENDAR
VERSION:2.0
PRODID:-//ChamberMaster//Event Calendar 2.0//EN
METHOD:PUBLISH
X-PUBLISHED-TTL:P3D
REFRESH-INTERVAL:P3D
CALSCALE:GREGORIAN
BEGIN:VEVENT
DTSTART:20210820T000000Z
DTEND:20210820T023000Z
X-MICROSOFT-CDO-ALLDAYEVENT:FALSE
SUMMARY:Summertime Pop-Up Dinner from the Times Collaborative & Shine Provisions
DESCRIPTION:Enjoy a 3 course dinner brought to you by Shine Provisions. Invite friends and enjoy a night out. \nCourse One: Burrata Salad - watermelon\, heirloom tomatoes\, cucumber\, pinenuts\, olive oil\n\nCourse Two: Pork Osso Bucco - goat cheese polenta\, garlic rainbow chard\, apple sage jus\n\nCourse Three: Chocolate Torte - chocolate cookie crust\, cherry compote\, chantilly cream
X-ALT-DESC;FMTTYPE=text/html:<span style="font-size:15px">Enjoy a 3 course dinner brought to you by Shine Provisions. Invite friends and enjoy a night out.&nbsp\;</span>\n<p>Course One: Burrata Salad - watermelon\, heirloom tomatoes\, cucumber\, pinenuts\, olive oil</p>\n\n<p>Course Two: Pork Osso Bucco - goat cheese polenta\, garlic rainbow chard\, apple sage jus</p>\n\n<p>Course Three: Chocolate Torte - chocolate cookie crust\, cherry compote\, chantilly cream</p>\n
LOCATION:The Times Collaborative
UID:e.3083.8470
SEQUENCE:3
DTSTAMP:20260424T124112Z
URL:https://members.longmontchamber.org/events/details/summertime-pop-up-dinner-from-the-times-collaborative-shine-provisions-8470
END:VEVENT

END:VCALENDAR
