BEGIN:VCALENDAR
VERSION:2.0
PRODID:-//ChamberMaster//Event Calendar 2.0//EN
METHOD:PUBLISH
X-PUBLISHED-TTL:P3D
REFRESH-INTERVAL:P3D
CALSCALE:GREGORIAN
BEGIN:VEVENT
DTSTART:20260223T003000Z
DTEND:20260223T023000Z
X-MICROSOFT-CDO-ALLDAYEVENT:FALSE
SUMMARY:Sunday Music on the Patio
DESCRIPTION:Happy Hour from 4:00-5:30pm.  Come and enjoy the largest and prettiest patio on the front range with live music from local artists like Zizania and Dan Bueller.
X-ALT-DESC;FMTTYPE=text/html:<br />\n<span style="font-size:20px\;">Happy Hour from 4:00-5:30pm.&nbsp\; Come and enjoy the largest and prettiest patio on the front range with live music from local artists like Zizania and Dan Bueller.&nbsp\;</span>
LOCATION:
UID:e.3083.14033
SEQUENCE:3
DTSTAMP:20260421T003425Z
URL:https://members.longmontchamber.org/events/details/sunday-music-on-the-patio-02-22-2026-14033
END:VEVENT

END:VCALENDAR
