BEGIN:VCALENDAR
VERSION:2.0
PRODID:-//ChamberMaster//Event Calendar 2.0//EN
METHOD:PUBLISH
X-PUBLISHED-TTL:P3D
REFRESH-INTERVAL:P3D
CALSCALE:GREGORIAN
BEGIN:VEVENT
DTSTART:20250809T140000Z
DTEND:20250809T170000Z
X-MICROSOFT-CDO-ALLDAYEVENT:FALSE
SUMMARY:Sunrise Stampede
DESCRIPTION:The Sunrise Stampede (established in 1985) is a family-oriented 5K and 1 Mile run/walk that raises funds to support Teacher Innovation Grants\, including Special Education and Mental Health grants that empower educators and uplift students.  These grants are awarded to teachers who have innovative ideas that empower educators and uplift students.   Help us continue a community tradition.
X-ALT-DESC;FMTTYPE=text/html:<br />\n<br />\n<span style="font-size:24px\;"><span style="color: rgb(0\, 0\, 0)\; font-family: &quot\;open sans&quot\;\, sans-serif\;">The Sunrise Stampede (established in 1985) is a family-oriented 5K and 1 Mile run/walk that raises funds to support Teacher Innovation Grants\, including Special Education and Mental Health grants that empower educators and uplift students.&nbsp\; These grants are awarded to teachers who have innovative ideas that empower educators and uplift students.&nbsp\; &nbsp\;Help us continue a community tradition.</span></span>
LOCATION:Fall River Elementary/Stephen Day Park in Longmont.
UID:e.3083.13533
SEQUENCE:3
DTSTAMP:20260421T082132Z
URL:https://members.longmontchamber.org/events/details/sunrise-stampede-13533
END:VEVENT

END:VCALENDAR
