BEGIN:VCALENDAR
VERSION:2.0
PRODID:-//ChamberMaster//Event Calendar 2.0//EN
METHOD:PUBLISH
X-PUBLISHED-TTL:P3D
REFRESH-INTERVAL:P3D
CALSCALE:GREGORIAN
BEGIN:VEVENT
DTSTART:20251214T070000Z
DTEND:20251214T160000Z
X-MICROSOFT-CDO-ALLDAYEVENT:FALSE
SUMMARY:Support VFW Longs Peak Post 2601 by eating at Oskar Blues!
DESCRIPTION:Oskar Blues Homemade Liquids and Solids\n\nProudly supports Longmont's Veterans. Please dine in on the second Sunday of each month from 12pm to 9pm.\n\n\n\nOskar Blues will donate 10% of all proceeds that day to Longs Peak VFW Post 2601.\n\n\n\nPlease help Oskar Blues help out our local veterans as well as our community.
X-ALT-DESC;FMTTYPE=text/html:<p><br />\n<span style="font-size:26px\;"><strong>Oskar Blues Homemade Liquids and Solids</strong></span></p>\n\n<p style="text-align:justify"><span style="font-size:22px\;">Proudly supports Longmont&rsquo\;s Veterans. Please dine in on the <strong>second</strong> Sunday of <strong>each</strong> month from 12pm&nbsp\;to 9pm.<br />\n<br />\nOskar Blues will donate 10% of all proceeds that day to Longs Peak VFW Post 2601.<br />\n<br />\nPlease help Oskar Blues help out our local veterans as well as our community.</span></p>\n
LOCATION:Oskar Blues Homemade Liquids and Solids
UID:e.3083.12550
SEQUENCE:3
DTSTAMP:20260421T033744Z
URL:https://members.longmontchamber.org/events/details/support-vfw-longs-peak-post-2601-by-eating-at-oskar-blues-12-14-2025-12550
END:VEVENT

END:VCALENDAR
