BEGIN:VCALENDAR
VERSION:2.0
PRODID:-//ChamberMaster//Event Calendar 2.0//EN
METHOD:PUBLISH
X-PUBLISHED-TTL:P3D
REFRESH-INTERVAL:P3D
CALSCALE:GREGORIAN
BEGIN:VEVENT
DTSTART:20250308T200000Z
DTEND:20250308T223000Z
X-MICROSOFT-CDO-ALLDAYEVENT:FALSE
SUMMARY:Swing Guitar Workshop with Greg Shochet and Kyle Ussery
DESCRIPTION:We'll break down rhythmic approaches\, common chords\, soloing concepts\, and the music theory that brings swing to life. Whether you're looking to refine your playing or expand your vocabulary\, this workshop will give you the tools to elevate your playing.
X-ALT-DESC;FMTTYPE=text/html:<span style="font-size:18px\;">We&rsquo\;ll break down rhythmic approaches\, common chords\, soloing concepts\, and the music theory that brings swing to life. Whether you&#39\;re looking to refine your playing or expand your vocabulary\, this workshop will give you the tools to elevate your playing.</span>
LOCATION:Butterscotch Studios
UID:e.3083.10905
SEQUENCE:3
DTSTAMP:20260421T160312Z
URL:https://members.longmontchamber.org/events/details/swing-guitar-workshop-with-greg-shochet-and-kyle-ussery-10905
END:VEVENT

END:VCALENDAR
