BEGIN:VCALENDAR
VERSION:2.0
PRODID:-//ChamberMaster//Event Calendar 2.0//EN
METHOD:PUBLISH
X-PUBLISHED-TTL:P3D
REFRESH-INTERVAL:P3D
CALSCALE:GREGORIAN
BEGIN:VEVENT
DTSTART:20260304T230000Z
DTEND:20260305T000000Z
X-MICROSOFT-CDO-ALLDAYEVENT:FALSE
SUMMARY:Takin' Care of Business\, Networking Group
DESCRIPTION:Takin' Care of Business is a networking group for professionals that are looking to grow their business organically through the Chamber and learn from other professionals' tips and tricks that have helped them succeed. The mindset of the group is positive\, upbeat\, and collaborative! The goal is to allow members a platform to promote their business\, as well as learn about other members' businesses. In addition to your "moment to shine" at our networking meetings\, there will be time for brainstorming with other members about topics of interest that affect our businesses and enable us to grow. Come check us out!\nNetworking Groups are a great way to deeply connect with other local business leaders\, share ideas and organically grow your business through relationships.\n\nOne representative from each industry may attend a Networking Group. Please contact the facilitators before attending.
X-ALT-DESC;FMTTYPE=text/html:Takin&rsquo\; Care of Business is a networking group for professionals that are looking to grow their business organically through the Chamber and learn from other professionals&rsquo\; tips and tricks that have helped them succeed. The mindset of the group is positive\, upbeat\, and collaborative! The goal is to allow members a platform to promote their business\, as well as learn about other members&rsquo\; businesses. In addition to your &ldquo\;moment to shine&rdquo\; at our networking meetings\, there will be time for brainstorming with other members about topics of interest that affect our businesses and enable us to grow. Come check us out!\n<p style="line-height: 1.7em\;">Networking Groups are a great way to deeply connect with other local business leaders\, share&nbsp\;ideas and organically grow your business through relationships.</p>\n\n<p style="line-height: 1.7em\;">One representative from each industry may attend a Networking Group. Please contact the facilitators before attending.</p>\n
LOCATION:
UID:e.3083.8885
SEQUENCE:3
DTSTAMP:20260420T225242Z
URL:https://members.longmontchamber.org/events/details/takin-care-of-business-networking-group-03-04-2026-8885
END:VEVENT

END:VCALENDAR
