BEGIN:VCALENDAR
VERSION:2.0
PRODID:-//ChamberMaster//Event Calendar 2.0//EN
METHOD:PUBLISH
X-PUBLISHED-TTL:P3D
REFRESH-INTERVAL:P3D
CALSCALE:GREGORIAN
BEGIN:VEVENT
DTSTART:20250727T000000Z
DTEND:20250727T030000Z
X-MICROSOFT-CDO-ALLDAYEVENT:FALSE
SUMMARY:Talking Swifty Heads @ FestGarten
DESCRIPTION:Wibby is over the moon to present a FREE\, fun\, festive performance featuring TALKING SWIFTY HEADS\, a magical\, musical fusion of Taylor Swift favorites & Talking Heads hits for all of your friends and the whole family to enjoy!\n\n \n\nThis curated ensemble features talented Colorado musicians:\n\nLauren Joy\n\nBrian Adams\n\nJace Marty\n\nEric Martinez\n\nRyan Sapp\n\n\n\nPerforming in our covered\, open-air pavilion in a festive Oktoberfest biergarten setting surrounded by flowers and yard games!\n\nSaturday\, July 26th at 6pm!\n\nAs always: All welcome\, all-ages.
X-ALT-DESC;FMTTYPE=text/html:<div><span style="font-size:18px\;">Wibby is over the moon to present a FREE\, fun\, festive performance featuring TALKING SWIFTY HEADS\, a magical\, musical fusion of Taylor Swift favorites &amp\; Talking Heads hits for all of your friends and the whole family to enjoy!</span><br />\n&nbsp\;</div>\n\n<div><span style="font-size:18px\;">This curated ensemble features talented Colorado musicians:<br />\nLauren Joy<br />\nBrian Adams<br />\nJace Marty<br />\nEric Martinez<br />\nRyan Sapp</span></div>\n\n<div><br />\n<span style="font-size:18px\;">Performing in our covered\, open-air pavilion in a festive Oktoberfest biergarten setting surrounded by flowers and yard games!</span></div>\n\n<div><span style="font-size:18px\;">Saturday\, July 26th at 6pm!</span></div>\n\n<div><span style="font-size:18px\;">As always: All welcome\, all-ages.</span></div>\n
LOCATION:Wibby Brewing
UID:e.3083.13593
SEQUENCE:3
DTSTAMP:20260421T093823Z
URL:https://members.longmontchamber.org/events/details/talking-swifty-heads-festgarten-13593
END:VEVENT

END:VCALENDAR
