BEGIN:VCALENDAR
VERSION:2.0
PRODID:-//ChamberMaster//Event Calendar 2.0//EN
METHOD:PUBLISH
X-PUBLISHED-TTL:P3D
REFRESH-INTERVAL:P3D
CALSCALE:GREGORIAN
BEGIN:VEVENT
DTSTART:20190919T200000Z
DTEND:20190919T230000Z
X-MICROSOFT-CDO-ALLDAYEVENT:FALSE
SUMMARY:TAPE- A Reverse Vendor Tradeshow Event
DESCRIPTION:TAPE |Terrible Acronym Productive Event.\n\nTAPE is a condensed continuation of the highly successful Reverse Vendor Trade Show hosted by the Longmont Area Chamber of Commerce and the Rocky Mountain Governmental Purchasing Association (RMGPA). TAPE is the reverse of your typical tradeshow because 25+ government purchasing departments from across the state are the ones behind the booths and businesses purchase tickets to attend the event.  It is an opportunity for businesses seeking government contracts to connect directly with dozens of purchasing agents from across the state of Colorado in one day. We have heard it's the most productive day of businesses in the year\, so register for TAPE | Terrible Acronym\, Productive Event! \n\n\n\nHurry! The deadline to sign up is Monday\, September 16\, 5:00 PM.\n\n\n\nUPDATE: 28 Public entities are registered as of 9/11/2019:\n\nAcademy District 20\n\nAdams County\n\nArapahoe County Government\n\nAuraria Higher Education Center\n\nAurora Public Schools\n\nCity of Colorado Springs\n\nCity of Fort Collins\n\nCity of Longmont\n\nCity of Westminster\n\nColorado Department of Revenue\n\nColorado Multiple Assembly of Procurement Officials (MAPO)\n\nColorado Procurement Technical Assistance Centers (PTAC)\n\nColorado Springs Airport\n\nColorado State University\n\nDenver Public Schools\n\nEl Paso County\n\nJeffco Public Schools\n\nJefferson County\n\nNorthern Colorado Water Conservancy District\n\nPoudre School District\n\nRMGPA/NIGP\n\nSt. Vrain Valley School District\n\nState of Colorado - Vendor Self Service System\n\nState of Colorado Department of Transportation\n\nState Purchasing & Contracts Office\n\nTown of Parker\n\nUniversity of Colorado\n\nUniversity of Northern Colorado
X-ALT-DESC;FMTTYPE=text/html:TAPE |Terrible Acronym Productive Event.<br />\nTAPE is a condensed continuation of the highly successful Reverse Vendor Trade Show hosted by the Longmont Area Chamber of Commerce and the Rocky Mountain Governmental Purchasing Association (RMGPA). TAPE is the reverse of your typical tradeshow because 25+ government purchasing departments from across the state are the ones behind the booths and businesses purchase tickets to attend the event.&nbsp\; It is an opportunity for businesses seeking government contracts to connect directly with dozens of purchasing agents from across the state of Colorado in one day. We have heard it&#39\;s the most productive day of businesses in the year\, so register for TAPE | Terrible Acronym\, Productive Event!&nbsp\;<br />\n<br />\n<strong>Hurry! The deadline to sign up is Monday\, September 16\, 5:00 PM.</strong><br />\n<br />\nUPDATE: 28 Public entities are registered as of 9/11/2019:<br />\nAcademy District 20<br />\nAdams County<br />\nArapahoe County Government<br />\nAuraria Higher Education Center<br />\nAurora Public Schools<br />\nCity of Colorado Springs<br />\nCity of Fort Collins<br />\nCity of Longmont<br />\nCity of Westminster<br />\nColorado Department of Revenue<br />\nColorado Multiple Assembly of Procurement Officials (MAPO)<br />\nColorado Procurement Technical Assistance Centers (PTAC)<br />\nColorado Springs Airport<br />\nColorado State University<br />\nDenver Public Schools<br />\nEl Paso County<br />\nJeffco Public Schools<br />\nJefferson County<br />\nNorthern Colorado Water Conservancy District<br />\nPoudre School District<br />\nRMGPA/NIGP<br />\nSt. Vrain Valley School District<br />\nState of Colorado - Vendor Self Service System<br />\nState of Colorado Department of Transportation<br />\nState Purchasing &amp\; Contracts Office<br />\nTown of Parker<br />\nUniversity of Colorado<br />\nUniversity of Northern Colorado
LOCATION:The Moose Lodge 2210 Pratt St\, Longmont\, CO 80501 The Moose Lodge of Longmont will be hosting both The RMGPA Fall Conference and the TAPE Reverse Vendor Trade Show.
UID:e.3083.7076
SEQUENCE:3
DTSTAMP:20260426T024155Z
URL:https://members.longmontchamber.org/events/details/tape-a-reverse-vendor-tradeshow-event-7076
END:VEVENT

END:VCALENDAR
