BEGIN:VCALENDAR
VERSION:2.0
PRODID:-//ChamberMaster//Event Calendar 2.0//EN
METHOD:PUBLISH
X-PUBLISHED-TTL:P3D
REFRESH-INTERVAL:P3D
CALSCALE:GREGORIAN
BEGIN:VEVENT
DTSTART:20221007T220000Z
DTEND:20221008T010000Z
X-MICROSOFT-CDO-ALLDAYEVENT:FALSE
SUMMARY:Taste The Times: A Culinary Tour of the Times Collaborative
DESCRIPTION:We are proud to announce our kickoff to Longmont Resturant Week!  Receive 8 courses from 8 chefs of The Times Collaborative\, one beer / wine ticket - all for $45.  AND proceeds benefit Longmont Food Rescue.
X-ALT-DESC;FMTTYPE=text/html:<span style="color:rgb(41\, 43\, 44)\; font-family:source sans pro\,helvetica neue\,helvetica\,arial\,sans-serif\; font-size:14px">We are proud to announce our kickoff to Longmont Resturant Week!&nbsp\; Receive&nbsp\;8 courses from 8 chefs of The Times Collaborative\, one beer / wine ticket - all for $45.&nbsp\; AND proceeds benefit Longmont Food Rescue. &nbsp\;</span>
LOCATION:The Times Collaborative 338 Main St
UID:e.3083.9101
SEQUENCE:3
DTSTAMP:20260423T145303Z
URL:https://members.longmontchamber.org/events/details/taste-the-times-a-culinary-tour-of-the-times-collaborative-9101
END:VEVENT

END:VCALENDAR
