BEGIN:VCALENDAR
VERSION:2.0
PRODID:-//ChamberMaster//Event Calendar 2.0//EN
METHOD:PUBLISH
X-PUBLISHED-TTL:P3D
REFRESH-INTERVAL:P3D
CALSCALE:GREGORIAN
BEGIN:VEVENT
DTSTART:20211124T160000Z
DTEND:20211124T200000Z
X-MICROSOFT-CDO-ALLDAYEVENT:FALSE
SUMMARY:Thanksgiving Blood Drive
DESCRIPTION:Join Vitalant on Wednesday\, Nov. 24 at the Longmont Moose Lodge for a community blood drive. \n\n\n\nTo make an appointment visit vitalant.org and use the code: 0171\n\n\n\nHappy Thanksgiving
X-ALT-DESC;FMTTYPE=text/html:Join Vitalant on Wednesday\, Nov. 24 at the Longmont Moose Lodge for a community blood drive.&nbsp\;<br />\n<br />\nTo make an appointment visit vitalant.org and use the code: 0171<br />\n<br />\nHappy Thanksgiving
LOCATION:2210 Pratt St\, Longmont\, CO 80501
UID:e.3083.8623
SEQUENCE:3
DTSTAMP:20260424T085653Z
URL:https://members.longmontchamber.org/events/details/thanksgiving-blood-drive-8623
END:VEVENT

END:VCALENDAR
