BEGIN:VCALENDAR
VERSION:2.0
PRODID:-//ChamberMaster//Event Calendar 2.0//EN
METHOD:PUBLISH
X-PUBLISHED-TTL:P3D
REFRESH-INTERVAL:P3D
CALSCALE:GREGORIAN
BEGIN:VEVENT
DTSTART:20250802T160000Z
DTEND:20250802T180000Z
X-MICROSOFT-CDO-ALLDAYEVENT:FALSE
SUMMARY:The 156th Boulder County Fair Parade 2025
DESCRIPTION:Longmont Kiwanis Club Presents\n\nThe 156th Boulder County Fair Parade 2025\n\n \nPARADE ROUTE\n\nRoosevelt Park Longs Peak Ave. to Main St. South on Main to 4th Ave\, East to Kimbark St. North on Kimbark to Longs Peak\, West back to Roosevelt Park.\n\n\n\nMore Info: email cherbearco@aol.com\n\nCall: 303-817-7382\n\nCheryl Smith\, Parade Producer
X-ALT-DESC;FMTTYPE=text/html:<div style="text-align: center\;"><br />\n<span style="font-size:24px\;"><span style="color:#008080\;"><strong>Longmont Kiwanis Club Presents</strong></span><br />\nThe 156th Boulder County Fair Parade 2025</span><br />\n&nbsp\;</div>\n<span style="font-size:20px\;"><u>PARADE ROUTE</u><br />\nRoosevelt Park Longs Peak Ave. to Main St. South on Main to 4th Ave\, East to Kimbark St. North on Kimbark to Longs Peak\, West back to Roosevelt Park.<br />\n<br />\nMore Info: email <a href="mailto:cherbearco@aol.com">cherbearco@aol.com</a><br />\nCall: 303-817-7382<br />\nCheryl Smith\, Parade Producer</span><br />\n&nbsp\;
LOCATION:
UID:e.3083.13581
SEQUENCE:3
DTSTAMP:20260421T081728Z
URL:https://members.longmontchamber.org/events/details/the-156th-boulder-county-fair-parade-2025-13581
END:VEVENT

END:VCALENDAR
