BEGIN:VCALENDAR
VERSION:2.0
PRODID:-//ChamberMaster//Event Calendar 2.0//EN
METHOD:PUBLISH
X-PUBLISHED-TTL:P3D
REFRESH-INTERVAL:P3D
CALSCALE:GREGORIAN
BEGIN:VEVENT
DTSTART;VALUE=DATE:20230603
DTEND;VALUE=DATE:20230604
TRANSP:TRANSPARENT
X-MICROSOFT-CDO-ALLDAYEVENT:TRUE
SUMMARY:The Boulder Beer Barn Bash
DESCRIPTION:The Boulder Barn Beer Bash promises to be an evening brimming with delights and lyrical jubilation and a Beer\, Wine and Distillery Tasting! We will revel in the high notes and rollick to the rhythmic awe of Chris Daniels and the Kings\, Colorado Music Hall of Fame winner\, and 15 studio album\, internationally recognized rock band from Colorado at the JCC in Boulder on June 3\, 2023.\n\nTickets are limited in number and selling fast. Sponsorship opportunities are now available. Your support changes lives!
X-ALT-DESC;FMTTYPE=text/html:<div>\n<h3><span style="font-family:arial\,helvetica\,sans-serif"><big>The Boulder Barn Beer Bash promises to be an evening brimming with delights and lyrical jubilation and a Beer\, Wine and Distillery Tasting! We will revel in the high notes and rollick to the rhythmic awe of&nbsp\;<a href="https://www.youtube.com/channel/UCshMYxklYik4gZxSRh7Crxg" style="box-sizing: border-box\; text-decoration-line: none\; transition-property: color\, background-color\, border-color\; transition-duration: 0.2s\; transition-timing-function: linear\; color: var(--link_color)\;">Chris Daniels and the Kings</a>\, Colorado Music Hall of Fame winner\, and 15 studio album\, internationally recognized rock band from Colorado at the JCC in Boulder on June 3\, 2023.</big></span></h3>\n\n<h3><span style="font-family:arial\,helvetica\,sans-serif"><big>Tickets are limited in number and selling fast. Sponsorship opportunities are now available. Your support changes lives!</big></span></h3>\n</div>\n\n<div>&nbsp\;</div>\n
LOCATION:
UID:e.3083.9677
SEQUENCE:3
DTSTAMP:20260423T021935Z
URL:https://members.longmontchamber.org/events/details/the-boulder-beer-barn-bash-9677
END:VEVENT

END:VCALENDAR
