BEGIN:VCALENDAR
VERSION:2.0
PRODID:-//ChamberMaster//Event Calendar 2.0//EN
METHOD:PUBLISH
X-PUBLISHED-TTL:P3D
REFRESH-INTERVAL:P3D
CALSCALE:GREGORIAN
BEGIN:VEVENT
DTSTART:20200327T133000Z
DTEND:20200327T160000Z
X-MICROSOFT-CDO-ALLDAYEVENT:FALSE
SUMMARY:The Business of Early Childhood is our Business
DESCRIPTION:You are invited to attend a very important Breakfast event sponsored by the Longmont Chamber of Commerce and Longmont Economic Development Partnership.  This exclusive breakfast event is limited to the first 250 people who register at https://www.eccbouldercounty.org/the-business-of-early-childhood-is-our-business-registration/ and will address one of the top needs of employees\, as well as one of the major indicators of lack of productive workforce for employers\, the issue of quality early childhood programs and services in Longmont and Boulder County.\n\nThere will be a presentation by Colorado Governor Jared Polis on early childhood policy and significant time for Q & A with business leaders from 9-10AM.  \n\nCome to :  \n\n	Learn what Governor's plan is for Early Childhood Education and the critical role businesses play in this plan\n\n\n\n	Governor will learn what Boulder County businesses see as critical in this area\n	Engage new business owners to join the Early Childhood Education Coalition\n	Offer liaisons from the Coalition to assist businesses and Chambers as they further explore Early Childhood issues \n	Depart with an understanding of what is required to increase capacity so that all Longmont/Boulder area child care and early childhood education needs can be met.
X-ALT-DESC;FMTTYPE=text/html:<span style="font-size:14px\;"><span style="color:#333333\;"><span style="font-family:times new roman\,serif\;">You are invited to attend a very important Breakfast event sponsored by the Longmont Chamber of Commerce and Longmont Economic Development Partnership.&nbsp\; This exclusive breakfast event is limited to the first 250 people who register at </span></span><a href="https://www.eccbouldercounty.org/the-business-of-early-childhood-is-our-business-registration/">https://www.eccbouldercounty.org/the-business-of-early-childhood-is-our-business-registration/</a><span style="color:#333333\;"><span style="font-family:times new roman\,serif\;">&nbsp\;and will address one of the top needs of employees\, as well as one of the major indicators of lack of productive workforce for employers\, the issue of quality early childhood programs and services in Longmont and Boulder County.</span></span><br />\n<strong><span style="color:#333333\;"><span style="font-family:times new roman\,serif\;">There will be a presentation by Colorado Governor Jared Polis on early childhood policy and significant time for Q &amp\; A with business leaders from 9-10AM.&nbsp\; </span></span></strong><br />\n<span style="color:#333333\;"><span style="font-family:times new roman\,serif\;">Come to :&nbsp\; </span></span></span>\n<ul>\n	<li><span style="font-size:14px\;"><span style="color:#333333\;"><span style="font-family:times new roman\,serif\;">Learn what Governor&rsquo\;s plan is for Early Childhood Education and the critical role businesses play in this plan</span></span></span></li>\n</ul>\n\n<ul>\n	<li style="color:#333333\;"><span style="font-size:14px\;">Governor will learn what Boulder County businesses see as critical in this area</span></li>\n	<li style="color:#333333\;"><span style="font-size:14px\;">Engage new business owners to join the Early Childhood Education Coalition</span></li>\n	<li style="color:#333333\;"><span style="font-size:14px\;">Offer liaisons from the Coalition to assist businesses and Chambers as they further explore Early Childhood issues&nbsp\;</span></li>\n	<li style="color:#333333\;"><span style="font-size:14px\;">Depart with an understanding of what is required to increase capacity so that all Longmont/Boulder area child care and early childhood education needs can be met.</span></li>\n</ul>\n
LOCATION:Longmont Museum 400 Quail Road\, Longmont CO
UID:e.3083.7562
SEQUENCE:3
DTSTAMP:20260425T170716Z
URL:https://members.longmontchamber.org/events/details/the-business-of-early-childhood-is-our-business-7562
END:VEVENT

END:VCALENDAR
