BEGIN:VCALENDAR
VERSION:2.0
PRODID:-//ChamberMaster//Event Calendar 2.0//EN
METHOD:PUBLISH
X-PUBLISHED-TTL:P3D
REFRESH-INTERVAL:P3D
CALSCALE:GREGORIAN
BEGIN:VEVENT
DTSTART:20200408T143000Z
DTEND:20200408T153000Z
X-MICROSOFT-CDO-ALLDAYEVENT:FALSE
SUMMARY:The Cooler
DESCRIPTION:Come join us at "The Cooler\," a new way of gathering around the office water cooler where forward-thinking people with a modern mindset will help each other reach their business goals.  We are a leads-focused group of professionals who prioritize growing business for ourselves and our members. Consistency and professionalism with a laid-back feel is what we are all about.
X-ALT-DESC;FMTTYPE=text/html:<span style="font-family: &quot\;times new roman&quot\;\, serif\; font-size: 16px\;">Come join us at &quot\;The Cooler\,&quot\; a new way of gathering around the office water cooler where forward-thinking people with a modern mindset will help each other reach their business goals.&nbsp\; We are a leads-focused group of professionals who prioritize growing business for ourselves and our members. Consistency and professionalism with a laid-back feel is what we are all about.&nbsp\;</span>
LOCATION:We meet at La Vita Bella\, 471 Main St.\, Longmont\, CO 80501
UID:e.3083.7202
SEQUENCE:3
DTSTAMP:20260425T152703Z
URL:https://members.longmontchamber.org/events/details/the-cooler-04-08-2020-7202
END:VEVENT

END:VCALENDAR
