BEGIN:VCALENDAR
VERSION:2.0
PRODID:-//ChamberMaster//Event Calendar 2.0//EN
METHOD:PUBLISH
X-PUBLISHED-TTL:P3D
REFRESH-INTERVAL:P3D
CALSCALE:GREGORIAN
BEGIN:VEVENT
DTSTART:20220929T160000Z
DTEND:20220929T170000Z
X-MICROSOFT-CDO-ALLDAYEVENT:FALSE
SUMMARY:The Key to Standing Out - Marketing Workshop for Realtors
DESCRIPTION:Are you struggling to stand out in a busy real estate environment? You're not alone! Join this free 1 hour workshop for tips and ideas for out of the box marketing.\n\nHosted By Megan Onorato of Fairway Independent Mortgage\n\nLead by Coy Ink Studio | Artist\, Designer\, Coach & Workshops\n\n \n\n \n\nIn this workshop\, we'll cover ways you can differentiate yourself from other brands using traditional tools like Social Media/Newsletters/Promotional Materials/Websites as well as Out of the Box ideas you may not have considered yet. Out of the box ideas that utilize your individual strengths\, quirks\, and charms that make you uniquely you. After all\, as an entrepreneur\, you're selling yourself as much as you are selling your product or service. It's time to figure out how to use that to your advantage.\n\nThings to Bring:\n\nLaptop\n\nExisting Promotional Materials (flyers\, business cards\, brochures\, website\, social media\, newsletters\, powerpoints\, etc.)\n\nNotebook & pencil\n\n \n\n \n\nAbout Coy Ink\n\nAmanda Maldonado\, aka Coy Ink\, is a local artist and graphic designer. She has 7 years of experience as a graphic designer and 3 of them as an Art Director for Simply Organic. During her time as a graphic designer\, the thing she loved most was helping others learn how to design more easily and efficiently. Amanda now works full time consulting & finding ways to help the community thrive. You can contact Amanda directly at hello@coyinkstudio.com or (720) 340-2016.
X-ALT-DESC;FMTTYPE=text/html:<p>Are you struggling to stand out in a busy real estate environment? You&rsquo\;re not alone! Join this free 1 hour workshop for tips and ideas for out of the box marketing.</p>\n\n<p><strong>Hosted By Megan Onorato of Fairway Independent Mortgage</strong></p>\n\n<p><strong>Lead by Coy Ink Studio | Artist\, Designer\, Coach &amp\; Workshops</strong></p>\n\n<p>&nbsp\;</p>\n\n<p>&nbsp\;</p>\n\n<p>In this workshop\, we&rsquo\;ll cover ways you can differentiate yourself from other brands using traditional tools like Social Media/Newsletters/Promotional Materials/Websites as well as Out of the Box ideas you may not have considered yet. Out of the box ideas that utilize your individual strengths\, quirks\, and charms that make you uniquely you. After all\, as an entrepreneur\, you&rsquo\;re selling yourself as much as you are selling your product or service. It&rsquo\;s time to figure out how to use that to your advantage.</p>\n\n<p><strong>Things to Bring:</strong></p>\n\n<p>Laptop</p>\n\n<p>Existing Promotional Materials (flyers\, business cards\, brochures\, website\, social media\, newsletters\, powerpoints\, etc.)</p>\n\n<p>Notebook &amp\; pencil</p>\n\n<p>&nbsp\;</p>\n\n<p>&nbsp\;</p>\n\n<p><strong>About Coy Ink</strong></p>\n\n<p>Amanda Maldonado\, aka Coy Ink\, is a local artist and graphic designer. She has 7 years of experience as a graphic designer and 3 of them as an Art Director for Simply Organic. During her time as a graphic designer\, the thing she loved most was helping others learn how to design more easily and efficiently. Amanda now works full time consulting &amp\; finding ways to help the community thrive. You can contact Amanda directly at hello@coyinkstudio.com or (720) 340-2016.</p>\n
LOCATION:The Times Collaborative 338 Main Street Longmont\, CO 80501
UID:e.3083.9094
SEQUENCE:3
DTSTAMP:20260423T164157Z
URL:https://members.longmontchamber.org/events/details/the-key-to-standing-out-marketing-workshop-for-realtors-9094
END:VEVENT

END:VCALENDAR
