BEGIN:VCALENDAR
VERSION:2.0
PRODID:-//ChamberMaster//Event Calendar 2.0//EN
METHOD:PUBLISH
X-PUBLISHED-TTL:P3D
REFRESH-INTERVAL:P3D
CALSCALE:GREGORIAN
BEGIN:VEVENT
DTSTART:20241212T003000Z
DTEND:20241212T020000Z
X-MICROSOFT-CDO-ALLDAYEVENT:FALSE
SUMMARY:The KInd Table
DESCRIPTION:Join us for a night of delicious\, plant-based dining with a 4-course meal\, inspiring conversation\, and meaningful connection.\n\nWe're excited to invite you to The Kind Table\, a unique plant-based meetup that's all about enjoying flavorful food\, fostering community\, and learning about the positive impact of plant-based choices on our health\, animals\, and the environment. Hosted in collaboration with Dancing with Plants a talented plant-based chef bringing creativity and heart to the table\, The Community Project\, Natural Grocers and Good Life Refuge\, this event is designed to celebrate a conscious lifestyle that nurtures both body and planet.\n\nEvent Highlights:\n\n\n	\n	Plant-Based Feast: Enjoy a vibrant\, 4-course chef-crafted menu showcasing whole\, plant-based foods bursting with flavor and designed to inspire your journey.\n	\n	\n	Interactive Discussions: Get ready for engaging chats about sustainable food systems\, the health benefits of a plant-based lifestyle\, and the role of sanctuary work in protecting animals and ecosystems.\n	\n	\n	Community Connection: Meet and connect with like-minded individuals who are curious about or committed to making choices that benefit our planet and all its inhabitants.\n	\n\n\nWhether you're vegan\, plant-curious\, or simply a food enthusiast\, this event is for anyone eager to explore the impact of mindful eating. Bring a friend and an open mind\, and come ready to indulge\, learn\, and connect!
X-ALT-DESC;FMTTYPE=text/html:<p><em>Join us for a night of delicious\, plant-based dining with a 4-course meal\, inspiring conversation\, and meaningful connection.</em></p>\n\n<p>We&#39\;re excited to invite you to <strong>The Kind Table</strong>\, a unique plant-based meetup that&rsquo\;s all about enjoying flavorful food\, fostering community\, and learning about the positive impact of plant-based choices on our health\, animals\, and the environment. Hosted in collaboration with <strong>Dancing with Plants</strong>&mdash\;a talented plant-based chef bringing creativity and heart to the table\, <strong>The Community Project</strong>\, <strong>Natural Grocers</strong> and <strong>Good Life Refuge</strong>\, this event is designed to celebrate a conscious lifestyle that nurtures both body and planet.</p>\n\n<h3><strong>Event Highlights:</strong></h3>\n\n<ul>\n	<li>\n	<p><strong>Plant-Based Feast</strong>: Enjoy a vibrant\, 4-course chef-crafted menu showcasing whole\, plant-based foods bursting with flavor and designed to inspire your journey.</p>\n	</li>\n	<li>\n	<p><strong>Interactive Discussions</strong>: Get ready for engaging chats about sustainable food systems\, the health benefits of a plant-based lifestyle\, and the role of sanctuary work in protecting animals and ecosystems.</p>\n	</li>\n	<li>\n	<p><strong>Community Connection</strong>: Meet and connect with like-minded individuals who are curious about or committed to making choices that benefit our planet and all its inhabitants.</p>\n	</li>\n</ul>\n\n<p>Whether you&#39\;re vegan\, plant-curious\, or simply a food enthusiast\, this event is for anyone eager to explore the impact of mindful eating. Bring a friend and an open mind\, and come ready to indulge\, learn\, and connect!</p>\n
LOCATION:Natural Grocers
UID:e.3083.10498
SEQUENCE:3
DTSTAMP:20260421T203804Z
URL:https://members.longmontchamber.org/events/details/the-kind-table-10498
END:VEVENT

END:VCALENDAR
