BEGIN:VCALENDAR
VERSION:2.0
PRODID:-//ChamberMaster//Event Calendar 2.0//EN
METHOD:PUBLISH
X-PUBLISHED-TTL:P3D
REFRESH-INTERVAL:P3D
CALSCALE:GREGORIAN
BEGIN:VEVENT
DTSTART:20240418T150000Z
DTEND:20240418T160000Z
X-MICROSOFT-CDO-ALLDAYEVENT:FALSE
SUMMARY:The Longmont Regent presents News with Friends
DESCRIPTION:Join us as we welcome Macie May with the Longmont Leader.  \n\n \n\nEnjoy a behind the scenes glimpse at how the news and weather works locally!\n\n \n\nEvent starts at 9am Thursday April 18th.
X-ALT-DESC;FMTTYPE=text/html:Join us as we welcome Macie May with the Longmont Leader. &nbsp\;<br />\n&nbsp\;<br />\nEnjoy a behind the scenes glimpse at how the news and weather works locally!<br />\n&nbsp\;<br />\nEvent starts at 9am Thursday April 18<sup>th</sup>.
LOCATION:Holiday Longmont Regent 2210 Main St Longmont Co\, 80501
UID:e.3083.10081
SEQUENCE:3
DTSTAMP:20260422T105351Z
URL:https://members.longmontchamber.org/events/details/the-longmont-regent-presents-news-with-friends-10081
END:VEVENT

END:VCALENDAR
