BEGIN:VCALENDAR
VERSION:2.0
PRODID:-//ChamberMaster//Event Calendar 2.0//EN
METHOD:PUBLISH
X-PUBLISHED-TTL:P3D
REFRESH-INTERVAL:P3D
CALSCALE:GREGORIAN
BEGIN:VEVENT
DTSTART:20250503T150000Z
DTEND:20250503T180000Z
X-MICROSOFT-CDO-ALLDAYEVENT:FALSE
SUMMARY:The Mountain States Children's Home 2nd Annual Volunteer Work Day
DESCRIPTION:You are invited to our 2nd Annual Volunteer Work Day at Mountain States Children's Home.  This is a wonderful opportunity to make a hands-on impact while working alongside others who share a heart for service.\n\n\n\nProjects include landscaping & lawn care\, organization\, spring cleaning\, general maintenance and more!\n\n\n\nWe will be providing event t-shirts for participants who register by April 13th\, so be sure to sign up soon.
X-ALT-DESC;FMTTYPE=text/html:<br />\n<span style="font-size:22px\;">You are invited to our 2nd Annual Volunteer Work Day at Mountain States Children&#39\;s Home.&nbsp\; This is a wonderful opportunity to make a hands-on impact while working alongside others who share a heart for service.<br />\n<br />\nProjects include landscaping &amp\; lawn care\, organization\, spring cleaning\, general maintenance and more!<br />\n<br />\nWe will be providing event t-shirts for participants who register by April 13th\, so be sure to sign up soon.</span>
LOCATION:Mountain States Children's Home
UID:e.3083.12540
SEQUENCE:3
DTSTAMP:20260421T130911Z
URL:https://members.longmontchamber.org/events/details/the-mountain-states-children-s-home-2nd-annual-volunteer-work-day-12540
END:VEVENT

END:VCALENDAR
