BEGIN:VCALENDAR
VERSION:2.0
PRODID:-//ChamberMaster//Event Calendar 2.0//EN
METHOD:PUBLISH
X-PUBLISHED-TTL:P3D
REFRESH-INTERVAL:P3D
CALSCALE:GREGORIAN
BEGIN:VEVENT
DTSTART:20250329T160000Z
DTEND:20250329T190000Z
X-MICROSOFT-CDO-ALLDAYEVENT:FALSE
SUMMARY:The Mountain States Children's Home Topgolf Fundraiser
DESCRIPTION:Support Mountain States Children's Home at our first ever Topgolf Fundraiser!\n\n\n\nGolfers and non-golfers alike will enjoy this fun morning of golf at Topgolf Thornton.  We will be playing a best-ball tournament which means every player gets three shots and your team takes the best shot out of all of you\, so no pressure to stack your team with pros. \n\n\n\nTake advantage of the special kids' rate or the discount for filling an entire bay with 6 players and bring friends and family to support Mountain States Children's Home.\n\n\n\nYour registration includes tournament play golf and lunch.
X-ALT-DESC;FMTTYPE=text/html:<p style="text-align:center">&nbsp\;</p>\n\n<p><span style="font-size:14pt"><span style="font-size:22px\;">Support Mountain States Children&#39\;s Home at our first ever Topgolf Fundraiser!<br />\n<br />\nGolfers and non-golfers alike will enjoy this fun morning of golf at Topgolf Thornton.&nbsp\; We will be playing a best-ball tournament which means every player gets three shots and your team takes the best shot out of all of you\, so no pressure to stack your team with pros.&nbsp\;<br />\n<br />\nTake advantage of the special kids&#39\; rate or the discount for filling an entire bay with 6 players and bring friends and family to support Mountain States Children&#39\;s Home.</span></span><br />\n<br />\n<span style="font-size:22px\;">Your registration includes tournament play golf and lunch.</span></p>\n
LOCATION:Topgolf Thornton
UID:e.3083.12539
SEQUENCE:3
DTSTAMP:20260421T160623Z
URL:https://members.longmontchamber.org/events/details/the-mountain-states-children-s-home-topgolf-fundraiser-12539
END:VEVENT

END:VCALENDAR
