BEGIN:VCALENDAR
VERSION:2.0
PRODID:-//ChamberMaster//Event Calendar 2.0//EN
METHOD:PUBLISH
X-PUBLISHED-TTL:P3D
REFRESH-INTERVAL:P3D
CALSCALE:GREGORIAN
BEGIN:VEVENT
DTSTART:20250712T160000Z
DTEND:20250712T190000Z
X-MICROSOFT-CDO-ALLDAYEVENT:FALSE
SUMMARY:The Nest Schools Open House
DESCRIPTION:Exciting News\, Everyone!\n\n\n\nYou're invited to our Open House on July 12th at The Nest in Longmont! Come experience the warmth of our community\, savor some delicious local food\, and see what makes our school so special.\n\n\n\nDon't miss out on this opportunity to connect and have a great time! Can't wait to see you there! \n\n\n\n#OpenHouse #LongmontLove #TheNestSchools
X-ALT-DESC;FMTTYPE=text/html:<br />\n<span style="font-size:22px\;"><span style="font-family: helvetica\, arial\, sans-serif\;">Exciting News\, Everyone!<br />\n<br />\nYou&#39\;re invited to our Open House on July 12th at The Nest in Longmont! Come experience the warmth of our community\, savor some delicious local food\, and see what makes our school so special.<br />\n<br />\nDon&#39\;t miss out on this opportunity to connect and have a great time! Can&#39\;t wait to see you there!</span><a href="https://twitter.com/hashtag/OpenHouse" style="box-sizing: border-box\; background-image: initial\; background-position: 0px 0px\; background-size: initial\; background-repeat: initial\; background-attachment: initial\; background-origin: initial\; background-clip: initial\; color: cornflowerblue\; text-decoration-line: none\; font-family: Helvetica\, Arial\, sans-serif\; font-size: 14px\; white-space-collapse: preserve\;" target="_blank"> </a></span><br />\n<br />\n<a href="https://twitter.com/hashtag/OpenHouse" style="box-sizing: border-box\; background-image: initial\; background-position: 0px 0px\; background-size: initial\; background-repeat: initial\; background-attachment: initial\; background-origin: initial\; background-clip: initial\; color: cornflowerblue\; text-decoration-line: none\; font-family: Helvetica\, Arial\, sans-serif\; font-size: 14px\; white-space-collapse: preserve\;" target="_blank">#OpenHouse</a><a href="https://twitter.com/hashtag/LongmontLove" style="box-sizing: border-box\; background-image: initial\; background-position: 0px 0px\; background-size: initial\; background-repeat: initial\; background-attachment: initial\; background-origin: initial\; background-clip: initial\; color: cornflowerblue\; text-decoration-line: none\; font-family: Helvetica\, Arial\, sans-serif\; font-size: 14px\; white-space-collapse: preserve\;" target="_blank"> #LongmontLove</a><a href="https://twitter.com/hashtag/TheNestSchools" style="box-sizing: border-box\; background-image: initial\; background-position: 0px 0px\; background-size: initial\; background-repeat: initial\; background-attachment: initial\; background-origin: initial\; background-clip: initial\; color: cornflowerblue\; text-decoration-line: none\; font-family: Helvetica\, Arial\, sans-serif\; font-size: 14px\; white-space-collapse: preserve\;" target="_blank"> #TheNestSchools</a><span style="font-family:helvetica\,arial\,sans-serif\; font-size:14px"> </span>
LOCATION:The Nest School
UID:e.3083.13558
SEQUENCE:3
DTSTAMP:20260421T095251Z
URL:https://members.longmontchamber.org/events/details/the-nest-schools-open-house-13558
END:VEVENT

END:VCALENDAR
