BEGIN:VCALENDAR
VERSION:2.0
PRODID:-//ChamberMaster//Event Calendar 2.0//EN
METHOD:PUBLISH
X-PUBLISHED-TTL:P3D
REFRESH-INTERVAL:P3D
CALSCALE:GREGORIAN
BEGIN:VEVENT
DTSTART:20241019T000000Z
DTEND:20241019T020000Z
X-MICROSOFT-CDO-ALLDAYEVENT:FALSE
SUMMARY:The Tribonacci Trio
DESCRIPTION:We're thrilled to host The Tribonacci Trio on Friday\, October 18th from 6:00 - 8:00 pm. as part of our "We Almost Forgot Our Birthday" Birthday Party! \n\nMany of you may already know the band members in other contexts\, including Karen's leading role at the Longmont Chamber of Commerce.\n\n\n\nThe group is an Americana band featuring acoustic guitar\, mandolin\, violin\, and vocals. Known for their versatility\, the trio fits seamlessly into a variety of venues\, blending rich harmonies\, intricate musicianship\, and heartfelt storytelling into every show.\n\n\n\nTheir repertoire includes a mix of bluegrass and Americana covers\, reimagined classics\, and original music. The Tribonacci Trio celebrates an authentic love of music and creates an unforgettable experience for audiences.\n\nCome for the music\, the cake (and pie!)\, the garage sale spirits\, the celebration!\n\nRSVP through our website.
X-ALT-DESC;FMTTYPE=text/html:<p><span style="color:rgb(85\, 85\, 85)\; font-family:arial">We&#39\;re thrilled to host&nbsp\;</span><strong>The Tribonacci Trio</strong><span style="color:rgb(85\, 85\, 85)\; font-family:arial">&nbsp\;on Friday\, October 18th from 6:00 - 8:00 pm. as part of our &quot\;We Almost Forgot Our Birthday&quot\; Birthday Party!&nbsp\;</span></p>\n\n<p><span style="color:rgb(85\, 85\, 85)\; font-family:arial">Many of you may already know the band members in other contexts\, including Karen&#39\;s leading role at the Longmont Chamber of Commerce.</span><br />\n<br />\n<span style="color:rgb(85\, 85\, 85)\; font-family:arial">The group is an Americana band featuring acoustic guitar\, mandolin\, violin\, and vocals. Known for their versatility\, the trio fits seamlessly into a variety of venues\, blending rich harmonies\, intricate musicianship\, and heartfelt storytelling into every show.</span><br />\n<br />\n<span style="color:rgb(85\, 85\, 85)\; font-family:arial">Their repertoire includes a mix of bluegrass and Americana covers\, reimagined classics\, and original music. The Tribonacci Trio celebrates an authentic love of music and creates an unforgettable experience for audiences.</span></p>\n\n<p><span style="color:rgb(85\, 85\, 85)\; font-family:arial">Come for the music\, the cake (and pie!)\, the garage sale spirits\, the celebration!</span></p>\n\n<p><span style="color:rgb(85\, 85\, 85)\; font-family:arial">RSVP through our website.</span></p>\n
LOCATION:Dry Land Distillers 519 Main St. Longmont\, CO 80501
UID:e.3083.10259
SEQUENCE:3
DTSTAMP:20260422T012915Z
URL:https://members.longmontchamber.org/events/details/the-tribonacci-trio-10259
END:VEVENT

END:VCALENDAR
