BEGIN:VCALENDAR
VERSION:2.0
PRODID:-//ChamberMaster//Event Calendar 2.0//EN
METHOD:PUBLISH
X-PUBLISHED-TTL:P3D
REFRESH-INTERVAL:P3D
CALSCALE:GREGORIAN
BEGIN:VEVENT
DTSTART:20241121T020000Z
DTEND:20241121T033000Z
X-MICROSOFT-CDO-ALLDAYEVENT:FALSE
SUMMARY:The Tribonacci Trio
DESCRIPTION:We're thrilled to host The Tribonacci Trio\, a well loved and engaging group in our local Longmont music scene! We are lucky to host them for a special performance as part of our third Wednesday Music Series\, from 7-8:30pm! \n\nThe group is an Americana band founded on the "love of folk and Americana\, good friendships\, and a drive to share music" and features acoustic guitar\, mandolin\, violin\, and vocals. Known for their versatility\, the trio fits seamlessly into a variety of venues\, blending rich harmonies\, intricate musicianship\, and heartfelt storytelling into every show.\n\n\n\nTheir repertoire includes a mix of bluegrass and Americana covers\, reimagined classics\, and many originals. The Tribonacci Trio celebrates an authentic love of music and creates an unforgettable experience for audiences.\n\nMany of you may already know the band members in other contexts\, including Karen's leading role at the Longmont Chamber of Commerce!\n\n\n\n'Tis the season for coming together and sharing music and cocktails with community\, we look forward to welcoming you and yours!\n\nThe event is Free\, and we suggest a two-drink minimum as a way of helping to support local music.
X-ALT-DESC;FMTTYPE=text/html:<p><span style="color:rgb(85\, 85\, 85)\; font-family:arial">We&#39\;re thrilled to host&nbsp\;</span><strong><a href="https://tribonacciband.com/" style="box-sizing: inherit\; color: var(--dark-green)\; outline: none\; transition: 0.2s\;"><span style="color:#008080\;">The Tribonacci Trio</span></a></strong><span style="color:rgb(85\, 85\, 85)\; font-family:arial">\, a well loved and engaging group in our local Longmont music scene! We are lucky to host them for a special performance as part of our third Wednesday Music Series\, from 7-8:30pm!&nbsp\;</span></p>\n\n<p><span style="color:rgb(85\, 85\, 85)\; font-family:arial">The group is an Americana band founded on the &quot\;love of folk and Americana\, good friendships\, and a drive to share music&quot\; and features acoustic guitar\, mandolin\, violin\, and vocals. Known for their versatility\, the trio fits seamlessly into a variety of venues\, blending rich harmonies\, intricate musicianship\, and heartfelt storytelling into every show.<br />\n<br />\nTheir repertoire includes a mix of bluegrass and Americana covers\, reimagined classics\, and many originals. The Tribonacci Trio celebrates an authentic love of music and creates an unforgettable experience for audiences.</span></p>\n\n<p><span style="color:rgb(85\, 85\, 85)\; font-family:arial">Many of you may already know the band members in other contexts\, including Karen&#39\;s leading role at the Longmont Chamber of Commerce!</span><br />\n<br />\n<span style="color:rgb(85\, 85\, 85)\; font-family:arial">&#39\;Tis the season for coming together and sharing music and cocktails with community\, we look forward to welcoming you and yours!</span></p>\n\n<p><span style="color:rgb(85\, 85\, 85)\; font-family:arial">The event is Free\, and we suggest a two-drink minimum as a way of helping to support local music.</span></p>\n
LOCATION:Dry Land Distillers
UID:e.3083.10289
SEQUENCE:3
DTSTAMP:20260421T223536Z
URL:https://members.longmontchamber.org/events/details/the-tribonacci-trio-11-20-2024-10289
END:VEVENT

END:VCALENDAR
