BEGIN:VCALENDAR
VERSION:2.0
PRODID:-//ChamberMaster//Event Calendar 2.0//EN
METHOD:PUBLISH
X-PUBLISHED-TTL:P3D
REFRESH-INTERVAL:P3D
CALSCALE:GREGORIAN
BEGIN:VEVENT
DTSTART:20250329T150000Z
DTEND:20250329T180000Z
X-MICROSOFT-CDO-ALLDAYEVENT:FALSE
SUMMARY:The Ultimate Ride n Brunch in Longmont
DESCRIPTION:Get ready to ride\, brunch\, and connect with fellow cycling and eBiking enthusiasts!  Spice eBikes\, Plant Forward Endurance Nutrition\, and Longmont Boulder Sports Chiropractic\, are teaming up to bring you a fun-filled morning of adventure\, community\, and delicious food.\n\nEvent Details\n\nStart Location: Spice eBikes\n\nDate: March 29\n\nWheels Up: 9:00 AM\n\nBrunch Begins: 10:00 AM (Open to riders & non-riders!)\n\nChoose Your Ride:\n\nChill Riders - A scenic 10-mile route for those looking for a relaxed ride.\n\nAdventure Riders -  A 20-mile route for those ready to push the pace.\n\nAfter the ride\, join us for a delicious brunch and great company whether you ride or not! This is a fantastic opportunity to explore Longmont's beautiful routes\, try out e-bikes and enjoy a plant-forward meal with the community.\n\nDon't miss out on this exciting event!  Bring your (e)bike\, your appetite\, and your love for adventure.\n\nFor more information\, contact:\n\nSpice eBikes\n\n(303) 532-2879\n\nSpiceebikes.com\n\nCo-sponsored by Plant Forward Endurance Nutrition and Longmont-Boulder Sports Chiropractic
X-ALT-DESC;FMTTYPE=text/html:<p style="margin-left:0px !important\; margin-right:0px">Get ready to ride\, brunch\, and connect with fellow cycling and eBiking enthusiasts!&nbsp\; Spice eBikes\, Plant Forward Endurance Nutrition\, and Longmont Boulder Sports Chiropractic\, are teaming up to bring you a fun-filled morning of adventure\, community\, and delicious food.</p>\n\n<p style="margin-left:0px !important\; margin-right:0px"><strong><u>Event Details</u></strong><br />\n<strong>Start Location:</strong>&nbsp\;Spice eBikes<br />\n<strong>Date:</strong>&nbsp\;March 29<br />\n<strong>Wheels Up:</strong>&nbsp\;9:00 AM<br />\n<strong>Brunch Begins:</strong>&nbsp\;10:00 AM (Open to riders &amp\; non-riders!)</p>\n\n<p style="margin-left:0px !important\; margin-right:0px"><strong>Choose Your Ride:</strong><br />\n<strong>Chill Riders -</strong>&nbsp\;A scenic 10-mile route for those looking for a relaxed ride.<br />\n<strong>Adventure Riders -&nbsp\;</strong>&nbsp\;A 20-mile route for those ready to push the pace.</p>\n\n<p style="margin-left:0px !important\; margin-right:0px">After the ride\, join us for a delicious brunch and great company&mdash\;whether you ride or not! This is a fantastic opportunity to explore Longmont&rsquo\;s beautiful routes\, try out e-bikes and enjoy a plant-forward meal with the community.</p>\n\n<p style="margin-left:0px !important\; margin-right:0px"><strong>Don&rsquo\;t miss out on this exciting event!&nbsp\; Bring your (e)bike\, your appetite\, and your love for adventure.</strong></p>\n\n<p style="margin-left:0px !important\; margin-right:0px">For more information\, contact:<br />\nSpice eBikes<br />\n<span style="font-size:14px">(303) 532-2879</span><br />\n<a href="http://spiceebikes.com/" style="box-sizing: border-box\; max-width: 100%\; color: rgb(51\, 93\, 255)\;" target="_blank">Spiceebikes.com</a></p>\n\n<p style="margin-left:0px !important\; margin-right:0px">Co-sponsored by&nbsp\;<a href="https://www.plantforwardendurancenutrition.com/" style="box-sizing: border-box\; max-width: 100%\; color: rgb(51\, 93\, 255)\;" target="_blank">Plant Forward Endurance Nutrition</a>&nbsp\;and&nbsp\;<a href="https://chiropractorslongmont.com/" style="box-sizing: border-box\; max-width: 100%\; color: rgb(51\, 93\, 255)\;" target="_blank">Longmont-Boulder Sports Chiropractic</a></p>\n
LOCATION:Spice eBikes
UID:e.3083.12679
SEQUENCE:3
DTSTAMP:20260421T160412Z
URL:https://members.longmontchamber.org/events/details/the-ultimate-ride-n-brunch-in-longmont-12679
END:VEVENT

END:VCALENDAR
